BEGIN:VCALENDAR
VERSION:2.0
PRODID:-//Psychoanalysis Los Angeles California Extension - ECPv6.15.1.1//NONSGML v1.0//EN
CALSCALE:GREGORIAN
METHOD:PUBLISH
X-ORIGINAL-URL:https://www.topoi.net
X-WR-CALDESC:Events for Psychoanalysis Los Angeles California Extension
REFRESH-INTERVAL;VALUE=DURATION:PT1H
X-Robots-Tag:noindex
X-PUBLISHED-TTL:PT1H
BEGIN:VTIMEZONE
TZID:America/Los_Angeles
BEGIN:DAYLIGHT
TZOFFSETFROM:-0800
TZOFFSETTO:-0700
TZNAME:PDT
DTSTART:20250309T100000
END:DAYLIGHT
BEGIN:STANDARD
TZOFFSETFROM:-0700
TZOFFSETTO:-0800
TZNAME:PST
DTSTART:20251102T090000
END:STANDARD
END:VTIMEZONE
BEGIN:VEVENT
DTSTART;TZID=America/Los_Angeles:20251004T100000
DTEND;TZID=America/Los_Angeles:20251004T123000
DTSTAMP:20260424T184746
CREATED:20251027T023935Z
LAST-MODIFIED:20251027T023935Z
UID:4392-1759572000-1759581000@www.topoi.net
SUMMARY:Seminar – Peril of Structure
DESCRIPTION:Tweet
URL:https://www.topoi.net/event/seminar-peril-of-structure-4
END:VEVENT
BEGIN:VEVENT
DTSTART;TZID=America/Los_Angeles:20251011T100000
DTEND;TZID=America/Los_Angeles:20251011T123000
DTSTAMP:20260424T184746
CREATED:20251027T023829Z
LAST-MODIFIED:20251027T023829Z
UID:4390-1760176800-1760185800@www.topoi.net
SUMMARY:Seminar - Retranslating The Instance of the Letter
DESCRIPTION:Tweet
URL:https://www.topoi.net/event/seminar-retranslating-the-instance-of-the-letter-3
END:VEVENT
BEGIN:VEVENT
DTSTART;TZID=America/Los_Angeles:20251018T100000
DTEND;TZID=America/Los_Angeles:20251018T123000
DTSTAMP:20260424T184746
CREATED:20251027T023715Z
LAST-MODIFIED:20251027T023715Z
UID:4388-1760781600-1760790600@www.topoi.net
SUMMARY:Seminar - Peril of Structure
DESCRIPTION:Tweet
URL:https://www.topoi.net/event/seminar-peril-of-structure-3
END:VEVENT
BEGIN:VEVENT
DTSTART;TZID=America/Los_Angeles:20251025T100000
DTEND;TZID=America/Los_Angeles:20251025T123000
DTSTAMP:20260424T184746
CREATED:20251027T023438Z
LAST-MODIFIED:20251027T023438Z
UID:4384-1761386400-1761395400@www.topoi.net
SUMMARY:Seminar-Retranslating The Instance of the Letter
DESCRIPTION:Tweet
URL:https://www.topoi.net/event/seminar-retranslating-the-instance-of-the-letter-2
END:VEVENT
BEGIN:VEVENT
DTSTART;TZID=America/Los_Angeles:20251026T100000
DTEND;TZID=America/Los_Angeles:20251026T120000
DTSTAMP:20260424T184746
CREATED:20251027T023558Z
LAST-MODIFIED:20251027T023558Z
UID:4386-1761472800-1761480000@www.topoi.net
SUMMARY:Cartel – Geometry\, Logic\, & Algebra
DESCRIPTION:Tweet
URL:https://www.topoi.net/event/cartel-geometry-logic-algebra
END:VEVENT
END:VCALENDAR