BEGIN:VCALENDAR
VERSION:2.0
PRODID:-//Psychoanalysis Los Angeles California Extension - ECPv6.15.1.1//NONSGML v1.0//EN
CALSCALE:GREGORIAN
METHOD:PUBLISH
X-WR-CALNAME:Psychoanalysis Los Angeles California Extension
X-ORIGINAL-URL:https://www.topoi.net
X-WR-CALDESC:Events for Psychoanalysis Los Angeles California Extension
REFRESH-INTERVAL;VALUE=DURATION:PT1H
X-Robots-Tag:noindex
X-PUBLISHED-TTL:PT1H
BEGIN:VTIMEZONE
TZID:UTC
BEGIN:STANDARD
TZOFFSETFROM:+0000
TZOFFSETTO:+0000
TZNAME:UTC
DTSTART:20220101T000000
END:STANDARD
END:VTIMEZONE
BEGIN:VEVENT
DTSTART;TZID=UTC:20230415T080000
DTEND;TZID=UTC:20230415T120000
DTSTAMP:20260425T034019
CREATED:20230322T005516Z
LAST-MODIFIED:20230322T005516Z
UID:3968-1681545600-1681560000@www.topoi.net
SUMMARY:Logic\, Algebra\, Knot
DESCRIPTION:Tweet
URL:https://www.topoi.net/event/logic-algebra-knot-4
END:VEVENT
BEGIN:VEVENT
DTSTART;TZID=UTC:20230408T080000
DTEND;TZID=UTC:20230408T123000
DTSTAMP:20260425T034019
CREATED:20230322T005428Z
LAST-MODIFIED:20230322T005428Z
UID:3966-1680940800-1680957000@www.topoi.net
SUMMARY:Alienation/Separation Seminar
DESCRIPTION:Tweet
URL:https://www.topoi.net/event/alienation-separation-seminar-4
END:VEVENT
BEGIN:VEVENT
DTSTART;TZID=UTC:20230401T100000
DTEND;TZID=UTC:20230401T120000
DTSTAMP:20260425T034019
CREATED:20230322T005339Z
LAST-MODIFIED:20230322T005339Z
UID:3964-1680343200-1680350400@www.topoi.net
SUMMARY:Logic\, Algebra\, Knot
DESCRIPTION:Tweet
URL:https://www.topoi.net/event/logic-algebra-knot-3
END:VEVENT
BEGIN:VEVENT
DTSTART;TZID=UTC:20230325T100000
DTEND;TZID=UTC:20230325T123000
DTSTAMP:20260425T034019
CREATED:20230322T005241Z
LAST-MODIFIED:20230322T005241Z
UID:3962-1679738400-1679747400@www.topoi.net
SUMMARY:Alienation/Separation Seminar
DESCRIPTION:Tweet
URL:https://www.topoi.net/event/alienation-separation-seminar-3
END:VEVENT
BEGIN:VEVENT
DTSTART;TZID=UTC:20230225T100000
DTEND;TZID=UTC:20230225T123000
DTSTAMP:20260425T034019
CREATED:20230131T111717Z
LAST-MODIFIED:20230131T111717Z
UID:3959-1677319200-1677328200@www.topoi.net
SUMMARY:Alienation-Separation Seminar
DESCRIPTION:Tweet
URL:https://www.topoi.net/event/alienation-separation-seminar-2
END:VEVENT
BEGIN:VEVENT
DTSTART;TZID=UTC:20230218T100000
DTEND;TZID=UTC:20230218T120000
DTSTAMP:20260425T034019
CREATED:20230131T111547Z
LAST-MODIFIED:20230131T111547Z
UID:3956-1676714400-1676721600@www.topoi.net
SUMMARY:Logic-Algebra-Knot
DESCRIPTION:Tweet
URL:https://www.topoi.net/event/logic-algebra-knot-2
END:VEVENT
BEGIN:VEVENT
DTSTART;TZID=UTC:20230211T100000
DTEND;TZID=UTC:20230211T123000
DTSTAMP:20260425T034019
CREATED:20230131T111443Z
LAST-MODIFIED:20230131T111443Z
UID:3954-1676109600-1676118600@www.topoi.net
SUMMARY:Alienation-Separation Seminar
DESCRIPTION:Tweet
URL:https://www.topoi.net/event/alienation-separation-seminar
END:VEVENT
BEGIN:VEVENT
DTSTART;TZID=UTC:20230204T100000
DTEND;TZID=UTC:20230204T120000
DTSTAMP:20260425T034019
CREATED:20230131T111238Z
LAST-MODIFIED:20230131T111238Z
UID:3952-1675504800-1675512000@www.topoi.net
SUMMARY:Logic-Algebra-Knot
DESCRIPTION:Tweet
URL:https://www.topoi.net/event/logic-algebra-knot
END:VEVENT
BEGIN:VEVENT
DTSTART;TZID=UTC:20221029T100000
DTEND;TZID=UTC:20221029T123000
DTSTAMP:20260425T034019
CREATED:20221005T130412Z
LAST-MODIFIED:20221005T130412Z
UID:3949-1667037600-1667046600@www.topoi.net
SUMMARY:Logic\, Algebra\, & Topology
DESCRIPTION:Tweet
URL:https://www.topoi.net/event/logic-algebra-topology
END:VEVENT
BEGIN:VEVENT
DTSTART;TZID=UTC:20221022T100000
DTEND;TZID=UTC:20221022T120000
DTSTAMP:20260425T034019
CREATED:20221005T130304Z
LAST-MODIFIED:20221005T130304Z
UID:3947-1666432800-1666440000@www.topoi.net
SUMMARY:Seminar - Alienation/Separation
DESCRIPTION:Tweet
URL:https://www.topoi.net/event/seminar-alienation-separation-2
END:VEVENT
BEGIN:VEVENT
DTSTART;TZID=UTC:20221015T100000
DTEND;TZID=UTC:20221015T120000
DTSTAMP:20260425T034019
CREATED:20221005T130151Z
LAST-MODIFIED:20221005T130151Z
UID:3945-1665828000-1665835200@www.topoi.net
SUMMARY:Logic\, Algebra\, & Topology Cartel
DESCRIPTION:Tweet
URL:https://www.topoi.net/event/logic-algebra-topology-cartel
END:VEVENT
BEGIN:VEVENT
DTSTART;TZID=UTC:20221008T100000
DTEND;TZID=UTC:20221008T123000
DTSTAMP:20260425T034019
CREATED:20220928T010947Z
LAST-MODIFIED:20220928T010947Z
UID:3943-1665223200-1665232200@www.topoi.net
SUMMARY:Seminar-Alienation/Separation
DESCRIPTION:Tweet
URL:https://www.topoi.net/event/seminar-alienation-separation
END:VEVENT
BEGIN:VEVENT
DTSTART;TZID=UTC:20220924T100000
DTEND;TZID=UTC:20220924T123000
DTSTAMP:20260425T034019
CREATED:20220817T065312Z
LAST-MODIFIED:20220817T065353Z
UID:3939-1664013600-1664022600@www.topoi.net
SUMMARY:Fall 2022 Seminar: Alienation-Separation
DESCRIPTION:Tweet
URL:https://www.topoi.net/event/fall-2022-alienation-separation
END:VEVENT
BEGIN:VEVENT
DTSTART;TZID=UTC:20220709T100000
DTEND;TZID=UTC:20220709T133000
DTSTAMP:20260425T034019
CREATED:20220607T025123Z
LAST-MODIFIED:20220607T025123Z
UID:3933-1657360800-1657373400@www.topoi.net
SUMMARY:Summer Immersion
DESCRIPTION:10:00 am PST – 1:30 pm Saturday\, July 9th – Summer Immersion – This is the first meeting of a 4+1-week course on Logic\, Boolean Algebra\, Topological Algebra and Nonclassical Logic with a view toward constructing Logic-Algebra in Graphs (Lattices) and a Nodal Logic in the manner of Lacan. Will be facilitated by Ali-Shojaei Fard and Robert-Scully. Though no previous experience or technical background is required\, willingness to ask questions and persevere is necessary. This is a 4-week course meeting every Saturday. Tuition: $200. Since participation is limited to 10\, please register at PLACE@topoi.netin advance to guarantee a place. Four texts can be referenced as an introduction: Quine’s Methods of Logic\, Halmos’s Algebraic Logic\, and Lacan’s Logic of the Fantasm-Positions of the Unconscious. \nTweet
URL:https://www.topoi.net/event/summer-immersion-6
END:VEVENT
BEGIN:VEVENT
DTSTART;TZID=UTC:20220618T100000
DTEND;TZID=UTC:20220618T133000
DTSTAMP:20260425T034019
CREATED:20220607T024535Z
LAST-MODIFIED:20220608T033019Z
UID:3931-1655546400-1655559000@www.topoi.net
SUMMARY:General Assembly
DESCRIPTION:Tweet
URL:https://www.topoi.net/event/general-assembly-4
END:VEVENT
BEGIN:VEVENT
DTSTART;TZID=UTC:20220529T120000
DTEND;TZID=UTC:20220529T140000
DTSTAMP:20260425T034019
CREATED:20220509T002928Z
LAST-MODIFIED:20220509T002959Z
UID:3922-1653825600-1653832800@www.topoi.net
SUMMARY:Reading Lacan
DESCRIPTION:Tweet
URL:https://www.topoi.net/event/reading-lacan-3
END:VEVENT
BEGIN:VEVENT
DTSTART;TZID=UTC:20220528T100000
DTEND;TZID=UTC:20220528T120000
DTSTAMP:20260425T034019
CREATED:20220509T002540Z
LAST-MODIFIED:20220509T002540Z
UID:3915-1653732000-1653739200@www.topoi.net
SUMMARY:Logic-Knot-Set
DESCRIPTION:Tweet
URL:https://www.topoi.net/event/logic-knot-set-2
END:VEVENT
BEGIN:VEVENT
DTSTART;TZID=UTC:20220522T120000
DTEND;TZID=UTC:20220522T140000
DTSTAMP:20260425T034019
CREATED:20220509T003038Z
LAST-MODIFIED:20220509T003038Z
UID:3924-1653220800-1653228000@www.topoi.net
SUMMARY:Reading Lacan
DESCRIPTION:Tweet
URL:https://www.topoi.net/event/reading-lacan-4
END:VEVENT
BEGIN:VEVENT
DTSTART;TZID=UTC:20220521T100000
DTEND;TZID=UTC:20220521T123000
DTSTAMP:20260425T034019
CREATED:20220509T002359Z
LAST-MODIFIED:20220509T002359Z
UID:3913-1653127200-1653136200@www.topoi.net
SUMMARY:Repetition-Negation
DESCRIPTION:Tweet
URL:https://www.topoi.net/event/repetition-negation-6
END:VEVENT
BEGIN:VEVENT
DTSTART;TZID=UTC:20220515T120000
DTEND;TZID=UTC:20220515T140000
DTSTAMP:20260425T034019
CREATED:20220509T002716Z
LAST-MODIFIED:20220509T002716Z
UID:3918-1652616000-1652623200@www.topoi.net
SUMMARY:Reading Lacan
DESCRIPTION:Tweet
URL:https://www.topoi.net/event/reading-lacan
END:VEVENT
BEGIN:VEVENT
DTSTART;TZID=UTC:20220514T100000
DTEND;TZID=UTC:20220514T120000
DTSTAMP:20260425T034019
CREATED:20220509T002212Z
LAST-MODIFIED:20220509T002212Z
UID:3911-1652522400-1652529600@www.topoi.net
SUMMARY:Logic-Knot-Set
DESCRIPTION:Tweet
URL:https://www.topoi.net/event/logic-knot-set
END:VEVENT
BEGIN:VEVENT
DTSTART;TZID=UTC:20220511T110000
DTEND;TZID=UTC:20220511T123000
DTSTAMP:20260425T034019
CREATED:20220509T003740Z
LAST-MODIFIED:20220509T003740Z
UID:3926-1652266800-1652272200@www.topoi.net
SUMMARY:Narcissism Is Not That! Exposing the Banalities of Popsy
DESCRIPTION:Tweet
URL:https://www.topoi.net/event/narcissism-is-not-that-exposing-the-banalities-of-popsy
ATTACH;FMTTYPE=image/png:https://www.topoi.net/wp-content/uploads/2022/05/EA57nQvk.png
END:VEVENT
BEGIN:VEVENT
DTSTART;TZID=UTC:20220508T120000
DTEND;TZID=UTC:20220508T140000
DTSTAMP:20260425T034019
CREATED:20220509T002814Z
LAST-MODIFIED:20220509T002814Z
UID:3920-1652011200-1652018400@www.topoi.net
SUMMARY:Reading Lacan
DESCRIPTION:Tweet
URL:https://www.topoi.net/event/reading-lacan-2
END:VEVENT
BEGIN:VEVENT
DTSTART;TZID=UTC:20220507T110000
DTEND;TZID=UTC:20220507T123000
DTSTAMP:20260425T034019
CREATED:20220427T000356Z
LAST-MODIFIED:20220427T000356Z
UID:3904-1651921200-1651926600@www.topoi.net
SUMMARY:Repetition-Negation
DESCRIPTION:Tweet
URL:https://www.topoi.net/event/repetition-negation-5
END:VEVENT
BEGIN:VEVENT
DTSTART;TZID=UTC:20220430T100000
DTEND;TZID=UTC:20220430T120000
DTSTAMP:20260425T034019
CREATED:20220427T000022Z
LAST-MODIFIED:20220427T000022Z
UID:3902-1651312800-1651320000@www.topoi.net
SUMMARY:Set-Logic-Knot
DESCRIPTION:Tweet
URL:https://www.topoi.net/event/set-logic-knot
END:VEVENT
BEGIN:VEVENT
DTSTART;TZID=UTC:20220427T080000
DTEND;TZID=UTC:20220427T170000
DTSTAMP:20260425T034019
CREATED:20220426T233450Z
LAST-MODIFIED:20220427T002035Z
UID:3898-1651046400-1651078800@www.topoi.net
SUMMARY:Now on Clubhouse: Do We Need Universals Today?
DESCRIPTION:We are now on Clubhouse. Come join us weekly each Wednesday morning at 11:00 am PST for a return to real analysis and discussion of those problems facing the individual and society. \n  \nhttps://www.clubhouse.com/event/M6gy5B7o?utm_medium=ch_event&utm_campaign=gklY13MpwKF1CWxPysr9IQ-166111 \nTweet
URL:https://www.topoi.net/event/now-on-clubhouse-do-we-need-universals-today
ATTACH;FMTTYPE=image/jpeg:https://www.topoi.net/wp-content/uploads/2022/04/itai-aarons-PeY2eePim3Q-unsplash-scaled.jpg
END:VEVENT
BEGIN:VEVENT
DTSTART;TZID=UTC:20220423T100000
DTEND;TZID=UTC:20220423T120000
DTSTAMP:20260425T034019
CREATED:20220402T072452Z
LAST-MODIFIED:20220402T072452Z
UID:3892-1650708000-1650715200@www.topoi.net
SUMMARY:Repetition Negation
DESCRIPTION:Tweet
URL:https://www.topoi.net/event/repetition-negation-4
END:VEVENT
BEGIN:VEVENT
DTSTART;TZID=UTC:20220416T100000
DTEND;TZID=UTC:20220416T123000
DTSTAMP:20260425T034019
CREATED:20220402T072402Z
LAST-MODIFIED:20220402T072402Z
UID:3890-1650103200-1650112200@www.topoi.net
SUMMARY:Logic-Set-Knot
DESCRIPTION:Tweet
URL:https://www.topoi.net/event/logic-set-knot-8
END:VEVENT
BEGIN:VEVENT
DTSTART;TZID=UTC:20220410T120000
DTEND;TZID=UTC:20220410T140000
DTSTAMP:20260425T034019
CREATED:20220402T072553Z
LAST-MODIFIED:20220402T072553Z
UID:3894-1649592000-1649599200@www.topoi.net
SUMMARY:Reading Lacan Seminar
DESCRIPTION:Tweet
URL:https://www.topoi.net/event/reading-lacan-seminar-2
END:VEVENT
BEGIN:VEVENT
DTSTART;TZID=UTC:20220409T100000
DTEND;TZID=UTC:20220409T123000
DTSTAMP:20260425T034019
CREATED:20220316T013427Z
LAST-MODIFIED:20220316T013427Z
UID:3880-1649498400-1649507400@www.topoi.net
SUMMARY:Repetition-Negation
DESCRIPTION:Tweet
URL:https://www.topoi.net/event/repetition-negation-3
END:VEVENT
END:VCALENDAR