BEGIN:VCALENDAR
VERSION:2.0
PRODID:-//Psychoanalysis Los Angeles California Extension - ECPv6.15.1.1//NONSGML v1.0//EN
CALSCALE:GREGORIAN
METHOD:PUBLISH
X-WR-CALNAME:Psychoanalysis Los Angeles California Extension
X-ORIGINAL-URL:https://www.topoi.net
X-WR-CALDESC:Events for Psychoanalysis Los Angeles California Extension
REFRESH-INTERVAL;VALUE=DURATION:PT1H
X-Robots-Tag:noindex
X-PUBLISHED-TTL:PT1H
BEGIN:VTIMEZONE
TZID:UTC
BEGIN:STANDARD
TZOFFSETFROM:+0000
TZOFFSETTO:+0000
TZNAME:UTC
DTSTART:20230101T000000
END:STANDARD
END:VTIMEZONE
BEGIN:VEVENT
DTSTART;TZID=UTC:20231216T100000
DTEND;TZID=UTC:20231216T120000
DTSTAMP:20260425T033953
CREATED:20231126T125522Z
LAST-MODIFIED:20231126T125522Z
UID:4094-1702720800-1702728000@www.topoi.net
SUMMARY:Knot\, Logic\, Algebra
DESCRIPTION:Tweet
URL:https://www.topoi.net/event/knot-logic-algebra-10
END:VEVENT
BEGIN:VEVENT
DTSTART;TZID=UTC:20231209T100000
DTEND;TZID=UTC:20231209T120000
DTSTAMP:20260425T033953
CREATED:20231126T125410Z
LAST-MODIFIED:20231126T125410Z
UID:4092-1702116000-1702123200@www.topoi.net
SUMMARY:Number and Symptom
DESCRIPTION:Tweet
URL:https://www.topoi.net/event/number-and-symptom-3
END:VEVENT
BEGIN:VEVENT
DTSTART;TZID=UTC:20231206T100000
DTEND;TZID=UTC:20231206T120000
DTSTAMP:20260425T033953
CREATED:20231126T125151Z
LAST-MODIFIED:20231205T044940Z
UID:4088-1701856800-1701864000@www.topoi.net
SUMMARY:What is the Enlightenment? Did It Succeed or Fail? Beyond Wokism and Personal Freedom.
DESCRIPTION:Tweet
URL:https://www.topoi.net/event/madness-and-war-is-enlightenment-possible
END:VEVENT
BEGIN:VEVENT
DTSTART;TZID=UTC:20231203T100000
DTEND;TZID=UTC:20231203T120000
DTSTAMP:20260425T033953
CREATED:20231126T125302Z
LAST-MODIFIED:20231126T125302Z
UID:4090-1701597600-1701604800@www.topoi.net
SUMMARY:The Other Clinic
DESCRIPTION:Tweet
URL:https://www.topoi.net/event/the-other-clinic-4
END:VEVENT
BEGIN:VEVENT
DTSTART;TZID=UTC:20231202T100000
DTEND;TZID=UTC:20231202T120000
DTSTAMP:20260425T033953
CREATED:20231126T124521Z
LAST-MODIFIED:20231126T124521Z
UID:4086-1701511200-1701518400@www.topoi.net
SUMMARY:Knot\, Logic\, Algebra
DESCRIPTION:Tweet
URL:https://www.topoi.net/event/knot-logic-algebra-9
END:VEVENT
BEGIN:VEVENT
DTSTART;TZID=UTC:20231125T100000
DTEND;TZID=UTC:20231125T123000
DTSTAMP:20260425T033953
CREATED:20231030T072632Z
LAST-MODIFIED:20231030T072632Z
UID:4053-1700906400-1700915400@www.topoi.net
SUMMARY:Number and Symptom
DESCRIPTION:Tweet
URL:https://www.topoi.net/event/number-and-symptom-2
END:VEVENT
BEGIN:VEVENT
DTSTART;TZID=UTC:20231122T100000
DTEND;TZID=UTC:20231122T120000
DTSTAMP:20260425T033953
CREATED:20231118T095127Z
LAST-MODIFIED:20231118T095400Z
UID:4078-1700647200-1700654400@www.topoi.net
SUMMARY:Why War?
DESCRIPTION:https://twitter.com/Thingpsy/status/1725598028873244849 \nTweet
URL:https://www.topoi.net/event/why-war
END:VEVENT
BEGIN:VEVENT
DTSTART;TZID=UTC:20231119T100000
DTEND;TZID=UTC:20231119T120000
DTSTAMP:20260425T033953
CREATED:20231030T073227Z
LAST-MODIFIED:20231030T073227Z
UID:4058-1700388000-1700395200@www.topoi.net
SUMMARY:The Other Clinic
DESCRIPTION:Tweet
URL:https://www.topoi.net/event/the-other-clinic-3
END:VEVENT
BEGIN:VEVENT
DTSTART;TZID=UTC:20231118T100000
DTEND;TZID=UTC:20231118T120000
DTSTAMP:20260425T033953
CREATED:20231030T072430Z
LAST-MODIFIED:20231030T072430Z
UID:4049-1700301600-1700308800@www.topoi.net
SUMMARY:Knot\, Logic\, Algebra
DESCRIPTION:Tweet
URL:https://www.topoi.net/event/knot-logic-algebra-8
END:VEVENT
BEGIN:VEVENT
DTSTART;TZID=UTC:20231111T100000
DTEND;TZID=UTC:20231111T120000
DTSTAMP:20260425T033953
CREATED:20231030T072536Z
LAST-MODIFIED:20231030T072536Z
UID:4051-1699696800-1699704000@www.topoi.net
SUMMARY:Number and Symptom
DESCRIPTION:Tweet
URL:https://www.topoi.net/event/number-and-symptom
END:VEVENT
BEGIN:VEVENT
DTSTART;TZID=UTC:20231108T100000
DTEND;TZID=UTC:20231108T120000
DTSTAMP:20260425T033953
CREATED:20231030T081617Z
LAST-MODIFIED:20231118T092137Z
UID:4063-1699437600-1699444800@www.topoi.net
SUMMARY:Why War? Why So Much Violence
DESCRIPTION:On Twitter Spaces: \nhttps://twitter.com/Thingpsy/status/1725598028873244849 \n  \nTweet
URL:https://www.topoi.net/event/why-war-why-so-much-violence
END:VEVENT
BEGIN:VEVENT
DTSTART;TZID=UTC:20231105T100000
DTEND;TZID=UTC:20231105T120000
DTSTAMP:20260425T033953
CREATED:20231030T072758Z
LAST-MODIFIED:20231030T072758Z
UID:4055-1699178400-1699185600@www.topoi.net
SUMMARY:The Other Clinic
DESCRIPTION:Tweet
URL:https://www.topoi.net/event/the-other-clinic-2
END:VEVENT
BEGIN:VEVENT
DTSTART;TZID=UTC:20231104T100000
DTEND;TZID=UTC:20231104T120000
DTSTAMP:20260425T033953
CREATED:20231030T072221Z
LAST-MODIFIED:20231030T072221Z
UID:4047-1699092000-1699099200@www.topoi.net
SUMMARY:Knot\, Logic\, Algebra Cartel
DESCRIPTION:Tweet
URL:https://www.topoi.net/event/knot-logic-algebra-cartel
END:VEVENT
BEGIN:VEVENT
DTSTART;TZID=UTC:20231028T100000
DTEND;TZID=UTC:20231028T123000
DTSTAMP:20260425T033953
CREATED:20231010T002147Z
LAST-MODIFIED:20231010T003643Z
UID:4041-1698487200-1698496200@www.topoi.net
SUMMARY:Seminar: Number and Symptom
DESCRIPTION:Tweet
URL:https://www.topoi.net/event/seminar-number-and-symptom-2
END:VEVENT
BEGIN:VEVENT
DTSTART;TZID=UTC:20231022T100000
DTEND;TZID=UTC:20231022T123000
DTSTAMP:20260425T033953
CREATED:20231010T003752Z
LAST-MODIFIED:20231010T003752Z
UID:4045-1697968800-1697977800@www.topoi.net
SUMMARY:The Other Clinic
DESCRIPTION:Tweet
URL:https://www.topoi.net/event/the-other-clinic
END:VEVENT
BEGIN:VEVENT
DTSTART;TZID=UTC:20231021T100000
DTEND;TZID=UTC:20231021T123000
DTSTAMP:20260425T033953
CREATED:20231010T003559Z
LAST-MODIFIED:20231010T003559Z
UID:4043-1697882400-1697891400@www.topoi.net
SUMMARY:Knot-Algebra-Logic
DESCRIPTION:Tweet
URL:https://www.topoi.net/event/knot-algebra-logic
END:VEVENT
BEGIN:VEVENT
DTSTART;TZID=UTC:20231014T100000
DTEND;TZID=UTC:20231014T123000
DTSTAMP:20260425T033953
CREATED:20231010T002104Z
LAST-MODIFIED:20231010T002104Z
UID:4039-1697277600-1697286600@www.topoi.net
SUMMARY:Seminar: Number and Symptom
DESCRIPTION:Tweet
URL:https://www.topoi.net/event/seminar-number-and-symptom
END:VEVENT
BEGIN:VEVENT
DTSTART;TZID=UTC:20231008T100000
DTEND;TZID=UTC:20231008T120000
DTSTAMP:20260425T033953
CREATED:20230923T040236Z
LAST-MODIFIED:20230923T040236Z
UID:4036-1696759200-1696766400@www.topoi.net
SUMMARY:Cartel: The Other Clinic
DESCRIPTION:Tweet
URL:https://www.topoi.net/event/cartel-the-other-clinic
END:VEVENT
BEGIN:VEVENT
DTSTART;TZID=UTC:20231007T100000
DTEND;TZID=UTC:20231007T120000
DTSTAMP:20260425T033953
CREATED:20230923T035906Z
LAST-MODIFIED:20231005T073904Z
UID:4034-1696672800-1696680000@www.topoi.net
SUMMARY:First Cartel of Semester: Knot\, Logic\, Algebra
DESCRIPTION:Tweet
URL:https://www.topoi.net/event/first-cartel-of-semester-knot-logic-algebra
ATTACH;FMTTYPE=image/jpeg:https://www.topoi.net/wp-content/uploads/2021/08/IMG_0114.jpeg
END:VEVENT
BEGIN:VEVENT
DTSTART;TZID=UTC:20230930T100000
DTEND;TZID=UTC:20230930T123000
DTSTAMP:20260425T033953
CREATED:20230908T005752Z
LAST-MODIFIED:20230908T005752Z
UID:4018-1696068000-1696077000@www.topoi.net
SUMMARY:First seminar of the semester: Number and Symptom
DESCRIPTION:Tweet
URL:https://www.topoi.net/event/first-seminar-of-the-semester-number-and-symptom
END:VEVENT
BEGIN:VEVENT
DTSTART;TZID=UTC:20230815T080000
DTEND;TZID=UTC:20230815T170000
DTSTAMP:20260425T033953
CREATED:20230718T235433Z
LAST-MODIFIED:20230718T235835Z
UID:4014-1692086400-1692118800@www.topoi.net
SUMMARY:Registration for Fall 2023 Semester: Begins last week of Sept.
DESCRIPTION:Registration is through August and September. First Seminar begins Sat. Sept. 30th. from 10:00am to 12:30pm. Cartels will begin the first week of Oct. If you plan on participating or need more info\, please contact the administrators on this site: PLACE@topoi.net \nTweet
URL:https://www.topoi.net/event/registration-for-fall-semester-begins
END:VEVENT
BEGIN:VEVENT
DTSTART;TZID=UTC:20230723T100000
DTEND;TZID=UTC:20230723T123000
DTSTAMP:20260425T033953
CREATED:20230718T235233Z
LAST-MODIFIED:20230718T235233Z
UID:4012-1690106400-1690115400@www.topoi.net
SUMMARY:Intuitionist Logic
DESCRIPTION:Tweet
URL:https://www.topoi.net/event/intuitionist-logic
END:VEVENT
BEGIN:VEVENT
DTSTART;TZID=UTC:20230722T100000
DTEND;TZID=UTC:20230722T123000
DTSTAMP:20260425T033953
CREATED:20230718T235135Z
LAST-MODIFIED:20230718T235152Z
UID:4009-1690020000-1690029000@www.topoi.net
SUMMARY:The Problem of Number & Logic
DESCRIPTION:Tweet
URL:https://www.topoi.net/event/the-problem-of-number-logic-intro-for-analysts
END:VEVENT
BEGIN:VEVENT
DTSTART;TZID=UTC:20230715T100000
DTEND;TZID=UTC:20230715T123000
DTSTAMP:20260425T033953
CREATED:20230708T030915Z
LAST-MODIFIED:20230708T030915Z
UID:4005-1689415200-1689424200@www.topoi.net
SUMMARY:The Problem of Structure in Psychoanalysis via Math and Logic – Maywood/Groome
DESCRIPTION:Tweet
URL:https://www.topoi.net/event/the-problem-of-structure-in-psychoanalysis-via-math-and-logic-maywood-groome
END:VEVENT
BEGIN:VEVENT
DTSTART;TZID=UTC:20230715T100000
DTEND;TZID=UTC:20230715T123000
DTSTAMP:20260425T033953
CREATED:20230708T030131Z
LAST-MODIFIED:20230708T030952Z
UID:4002-1689415200-1689424200@www.topoi.net
SUMMARY:The Problem of Structure in Psychoanalysis via Math and Logic - Maywood/Groome
DESCRIPTION:Tweet
URL:https://www.topoi.net/event/the-problem-of-structure-in-psychoanalysis-via-mathematics-and-logic-s-maywood-r-groome
END:VEVENT
BEGIN:VEVENT
DTSTART;TZID=UTC:20230708T100000
DTEND;TZID=UTC:20230708T123000
DTSTAMP:20260425T033953
CREATED:20230708T021320Z
LAST-MODIFIED:20230708T021320Z
UID:4000-1688810400-1688819400@www.topoi.net
SUMMARY:Formalization of Psychoanalysis R. Lew
DESCRIPTION:Tweet
URL:https://www.topoi.net/event/formalization-of-psychoanalysis-r-lew
END:VEVENT
BEGIN:VEVENT
DTSTART;TZID=UTC:20230708T100000
DTEND;TZID=UTC:20230708T123000
DTSTAMP:20260425T033953
CREATED:20230708T021155Z
LAST-MODIFIED:20230708T021155Z
UID:3998-1688810400-1688819400@www.topoi.net
SUMMARY:Formalization of Psychoanalysis with R. Lew
DESCRIPTION:Tweet
URL:https://www.topoi.net/event/formalization-of-psychoanalysis-with-r-lew
END:VEVENT
BEGIN:VEVENT
DTSTART;TZID=UTC:20230701T100000
DTEND;TZID=UTC:20230701T123000
DTSTAMP:20260425T033953
CREATED:20230523T015459Z
LAST-MODIFIED:20230523T015459Z
UID:3988-1688205600-1688214600@www.topoi.net
SUMMARY:Summer Immersion - How does the formalization of psychoanalysis help psychoanalytic practice? Presentation of René Lew
DESCRIPTION:2- July 1-30th\, Saturday\, 10:00 am-12:30 pm PST\, Summer Immersion – The Immersion will be in two parts this summer. The first two weekends\, Saturday and Sunday from 10:00 am-12:30 pm PST\, via Zoom René Lew\, Parisian analyst-psychiatrist\, is invited to discuss his practice in Lacanian analysis and topology. The presentation will be in French via Zoom and simultaneously translated by an interpreter. See the end of this bulletin and on the website of PLACE for a summary of the argument and bio of Lew. The second two weekends\, Sat. and Sunday\, same times\, will be dedicated to the presentation of Non-classical logics (modal\, intuitionist\, bi-intuitionist) and their use in the context of Lacanian analysis. If there is time\, a bridge will be made to Heyting & Bi-Heyting Algebras and Galois Groups. All of these meetings will be held via Zoom. \nTweet
URL:https://www.topoi.net/event/summer-immersion-how-does-the-formalization-of-psychoanalysis-help-psychoanalytic-practice-presentation-of-rene-lew
END:VEVENT
BEGIN:VEVENT
DTSTART;TZID=UTC:20230617T100000
DTEND;TZID=UTC:20230617T130000
DTSTAMP:20260425T033953
CREATED:20230523T014959Z
LAST-MODIFIED:20230523T014959Z
UID:3986-1686996000-1687006800@www.topoi.net
SUMMARY:General Assembly
DESCRIPTION:1- June 17th\, Saturday\, 10:00 am-1:00 pm PST\, General Assembly – Open questions on the Interior/Exterior politics of the association. The current proposal for an Extension Project for the city of LA. Review of Articles of PLACE. Publications by those working at PLACE. Discussion on the invitation of practicing analysts to detail their practice to those working at PLACE. This meeting will only be held via Zoom. \nTweet
URL:https://www.topoi.net/event/general-assembly-5
END:VEVENT
BEGIN:VEVENT
DTSTART;TZID=UTC:20230527T100000
DTEND;TZID=UTC:20230527T120000
DTSTAMP:20260425T033953
CREATED:20230523T014721Z
LAST-MODIFIED:20230523T014721Z
UID:3984-1685181600-1685188800@www.topoi.net
SUMMARY:Last Knot-Logic-Algebra Cartel of the Spring 2023 Semester
DESCRIPTION:Tweet
URL:https://www.topoi.net/event/last-knot-logic-algebra-cartel-of-the-spring-2023-semester
END:VEVENT
END:VCALENDAR