BEGIN:VCALENDAR
VERSION:2.0
PRODID:-//Psychoanalysis Los Angeles California Extension - ECPv6.15.1.1//NONSGML v1.0//EN
CALSCALE:GREGORIAN
METHOD:PUBLISH
X-WR-CALNAME:Psychoanalysis Los Angeles California Extension
X-ORIGINAL-URL:https://www.topoi.net
X-WR-CALDESC:Events for Psychoanalysis Los Angeles California Extension
REFRESH-INTERVAL;VALUE=DURATION:PT1H
X-Robots-Tag:noindex
X-PUBLISHED-TTL:PT1H
BEGIN:VTIMEZONE
TZID:UTC
BEGIN:STANDARD
TZOFFSETFROM:+0000
TZOFFSETTO:+0000
TZNAME:UTC
DTSTART:20230101T000000
END:STANDARD
END:VTIMEZONE
BEGIN:VEVENT
DTSTART;TZID=UTC:20240507T100000
DTEND;TZID=UTC:20240507T120000
DTSTAMP:20260425T034158
CREATED:20240507T235152Z
LAST-MODIFIED:20240507T235152Z
UID:4164-1715076000-1715083200@www.topoi.net
SUMMARY:Other Clinic
DESCRIPTION:Tweet
URL:https://www.topoi.net/event/other-clinic-5
END:VEVENT
BEGIN:VEVENT
DTSTART;TZID=UTC:20240504T100000
DTEND;TZID=UTC:20240504T120000
DTSTAMP:20260425T034158
CREATED:20240405T060659Z
LAST-MODIFIED:20240405T060659Z
UID:4152-1714816800-1714824000@www.topoi.net
SUMMARY:Seminar: Number and Symptom
DESCRIPTION:Tweet
URL:https://www.topoi.net/event/seminar-number-and-symptom-6
END:VEVENT
BEGIN:VEVENT
DTSTART;TZID=UTC:20240428T100000
DTEND;TZID=UTC:20240428T120000
DTSTAMP:20260425T034158
CREATED:20240405T060910Z
LAST-MODIFIED:20240405T060910Z
UID:4157-1714298400-1714305600@www.topoi.net
SUMMARY:Other Clinic
DESCRIPTION:Tweet
URL:https://www.topoi.net/event/other-clinic-4
END:VEVENT
BEGIN:VEVENT
DTSTART;TZID=UTC:20240427T100000
DTEND;TZID=UTC:20240427T120000
DTSTAMP:20260425T034158
CREATED:20240405T060601Z
LAST-MODIFIED:20240405T060601Z
UID:4150-1714212000-1714219200@www.topoi.net
SUMMARY:Cartel:Knot\, Logic\, Algebra
DESCRIPTION:Tweet
URL:https://www.topoi.net/event/cartelknot-logic-algebra
END:VEVENT
BEGIN:VEVENT
DTSTART;TZID=UTC:20240420T100000
DTEND;TZID=UTC:20240420T123000
DTSTAMP:20260425T034158
CREATED:20240405T060434Z
LAST-MODIFIED:20240405T060434Z
UID:4148-1713607200-1713616200@www.topoi.net
SUMMARY:Seminar: Number and Symptom
DESCRIPTION:Tweet
URL:https://www.topoi.net/event/seminar-number-and-symptom-5
END:VEVENT
BEGIN:VEVENT
DTSTART;TZID=UTC:20240414T100000
DTEND;TZID=UTC:20240414T120000
DTSTAMP:20260425T034158
CREATED:20240405T060747Z
LAST-MODIFIED:20240405T060747Z
UID:4154-1713088800-1713096000@www.topoi.net
SUMMARY:Other Clinic
DESCRIPTION:Tweet
URL:https://www.topoi.net/event/other-clinic-3
END:VEVENT
BEGIN:VEVENT
DTSTART;TZID=UTC:20240413T100000
DTEND;TZID=UTC:20240413T120000
DTSTAMP:20260425T034158
CREATED:20240405T060329Z
LAST-MODIFIED:20240405T060329Z
UID:4146-1713002400-1713009600@www.topoi.net
SUMMARY:Cartel: Knot\, Logic\, Algebra
DESCRIPTION:Tweet
URL:https://www.topoi.net/event/cartel-knot-logic-algebra
END:VEVENT
BEGIN:VEVENT
DTSTART;TZID=UTC:20240406T100000
DTEND;TZID=UTC:20240406T123000
DTSTAMP:20260425T034158
CREATED:20240405T060231Z
LAST-MODIFIED:20240405T060231Z
UID:4144-1712397600-1712406600@www.topoi.net
SUMMARY:Seminar - Number and Symptom
DESCRIPTION:Tweet
URL:https://www.topoi.net/event/seminar-number-and-symptom-4
END:VEVENT
BEGIN:VEVENT
DTSTART;TZID=UTC:20240331T100000
DTEND;TZID=UTC:20240331T120000
DTSTAMP:20260425T034158
CREATED:20240220T102020Z
LAST-MODIFIED:20240220T102020Z
UID:4140-1711879200-1711886400@www.topoi.net
SUMMARY:Other Clinic
DESCRIPTION:Tweet
URL:https://www.topoi.net/event/other-clinic-2
END:VEVENT
BEGIN:VEVENT
DTSTART;TZID=UTC:20240330T100000
DTEND;TZID=UTC:20240330T120000
DTSTAMP:20260425T034158
CREATED:20240220T101945Z
LAST-MODIFIED:20240220T101945Z
UID:4138-1711792800-1711800000@www.topoi.net
SUMMARY:Knot\,Logic\, and Algebra
DESCRIPTION:Tweet
URL:https://www.topoi.net/event/knotlogic-and-algebra
END:VEVENT
BEGIN:VEVENT
DTSTART;TZID=UTC:20240323T100000
DTEND;TZID=UTC:20240323T123000
DTSTAMP:20260425T034158
CREATED:20240220T101838Z
LAST-MODIFIED:20240220T101838Z
UID:4136-1711188000-1711197000@www.topoi.net
SUMMARY:Number and Symptom
DESCRIPTION:Tweet
URL:https://www.topoi.net/event/number-and-symptom-6
END:VEVENT
BEGIN:VEVENT
DTSTART;TZID=UTC:20240317T100000
DTEND;TZID=UTC:20240317T120000
DTSTAMP:20260425T034158
CREATED:20240220T101742Z
LAST-MODIFIED:20240220T101742Z
UID:4134-1710669600-1710676800@www.topoi.net
SUMMARY:Other Clinic
DESCRIPTION:Tweet
URL:https://www.topoi.net/event/other-clinic
END:VEVENT
BEGIN:VEVENT
DTSTART;TZID=UTC:20240316T100000
DTEND;TZID=UTC:20240316T120000
DTSTAMP:20260425T034158
CREATED:20240220T101708Z
LAST-MODIFIED:20240220T101708Z
UID:4132-1710583200-1710590400@www.topoi.net
SUMMARY:Knot\, Logic\, and Algebra
DESCRIPTION:Tweet
URL:https://www.topoi.net/event/knot-logic-and-algebra-2
END:VEVENT
BEGIN:VEVENT
DTSTART;TZID=UTC:20240309T100000
DTEND;TZID=UTC:20240309T123000
DTSTAMP:20260425T034158
CREATED:20240220T101506Z
LAST-MODIFIED:20240220T101506Z
UID:4129-1709978400-1709987400@www.topoi.net
SUMMARY:Number and Symptom
DESCRIPTION:Tweet
URL:https://www.topoi.net/event/number-and-symptom-5
END:VEVENT
BEGIN:VEVENT
DTSTART;TZID=UTC:20240303T080000
DTEND;TZID=UTC:20240303T120000
DTSTAMP:20260425T034158
CREATED:20240220T101415Z
LAST-MODIFIED:20240220T101415Z
UID:4127-1709452800-1709467200@www.topoi.net
SUMMARY:The Other Clinic
DESCRIPTION:Tweet
URL:https://www.topoi.net/event/the-other-clinic-8
END:VEVENT
BEGIN:VEVENT
DTSTART;TZID=UTC:20240302T100000
DTEND;TZID=UTC:20240302T120000
DTSTAMP:20260425T034158
CREATED:20240220T101312Z
LAST-MODIFIED:20240220T101312Z
UID:4125-1709373600-1709380800@www.topoi.net
SUMMARY:Knot\, Logic\, and Algebra
DESCRIPTION:Tweet
URL:https://www.topoi.net/event/knot-logic-and-algebra
END:VEVENT
BEGIN:VEVENT
DTSTART;TZID=UTC:20240224T100000
DTEND;TZID=UTC:20240224T123000
DTSTAMP:20260425T034158
CREATED:20240220T101206Z
LAST-MODIFIED:20240220T101206Z
UID:4123-1708768800-1708777800@www.topoi.net
SUMMARY:Seminar: Number and Symptom
DESCRIPTION:Tweet
URL:https://www.topoi.net/event/seminar-number-and-symptom-3
END:VEVENT
BEGIN:VEVENT
DTSTART;TZID=UTC:20240218T100000
DTEND;TZID=UTC:20240218T120000
DTSTAMP:20260425T034158
CREATED:20240123T120319Z
LAST-MODIFIED:20240123T120319Z
UID:4121-1708250400-1708257600@www.topoi.net
SUMMARY:The Other Clinic
DESCRIPTION:Tweet
URL:https://www.topoi.net/event/the-other-clinic-7
END:VEVENT
BEGIN:VEVENT
DTSTART;TZID=UTC:20240217T100000
DTEND;TZID=UTC:20240217T120000
DTSTAMP:20260425T034158
CREATED:20240123T120236Z
LAST-MODIFIED:20240123T120236Z
UID:4119-1708164000-1708171200@www.topoi.net
SUMMARY:Knot\, Logic\, Algebra
DESCRIPTION:Tweet
URL:https://www.topoi.net/event/knot-logic-algebra-11
END:VEVENT
BEGIN:VEVENT
DTSTART;TZID=UTC:20240210T100000
DTEND;TZID=UTC:20240210T123000
DTSTAMP:20260425T034158
CREATED:20240123T120150Z
LAST-MODIFIED:20240123T120150Z
UID:4117-1707559200-1707568200@www.topoi.net
SUMMARY:Number and Symptom
DESCRIPTION:Tweet
URL:https://www.topoi.net/event/number-and-symptom-4
END:VEVENT
BEGIN:VEVENT
DTSTART;TZID=UTC:20240204T100000
DTEND;TZID=UTC:20240204T123000
DTSTAMP:20260425T034158
CREATED:20240123T120041Z
LAST-MODIFIED:20240123T120041Z
UID:4115-1707040800-1707049800@www.topoi.net
SUMMARY:The Other Clinic
DESCRIPTION:Tweet
URL:https://www.topoi.net/event/the-other-clinic-6
END:VEVENT
BEGIN:VEVENT
DTSTART;TZID=UTC:20240203T100000
DTEND;TZID=UTC:20240203T120000
DTSTAMP:20260425T034158
CREATED:20240123T115813Z
LAST-MODIFIED:20240123T115813Z
UID:4112-1706954400-1706961600@www.topoi.net
SUMMARY:First Winter Cartel Begins: Knot\, Algebra\, Logic
DESCRIPTION:Tweet
URL:https://www.topoi.net/event/first-winter-cartel-begins-knot-algebra-logic
END:VEVENT
BEGIN:VEVENT
DTSTART;TZID=UTC:20240127T100000
DTEND;TZID=UTC:20240127T123000
DTSTAMP:20260425T034158
CREATED:20240123T115709Z
LAST-MODIFIED:20240123T115840Z
UID:4110-1706349600-1706358600@www.topoi.net
SUMMARY:Winter Seminar begins: Number and Symptom
DESCRIPTION:Tweet
URL:https://www.topoi.net/event/winter-seminar-begins-knot-algebra-logic
END:VEVENT
BEGIN:VEVENT
DTSTART;TZID=UTC:20231221T080000
DTEND;TZID=UTC:20240126T170000
DTSTAMP:20260425T034158
CREATED:20231221T174939Z
LAST-MODIFIED:20231221T174939Z
UID:4106-1703145600-1706288400@www.topoi.net
SUMMARY:Christmas Break till January 27th
DESCRIPTION:Tweet
URL:https://www.topoi.net/event/christmas-break-till-january-27th
END:VEVENT
BEGIN:VEVENT
DTSTART;TZID=UTC:20231221T080000
DTEND;TZID=UTC:20240126T080000
DTSTAMP:20260425T034158
CREATED:20231221T175134Z
LAST-MODIFIED:20231221T175312Z
UID:4108-1703145600-1706256000@www.topoi.net
SUMMARY:Winter-Spring 2024 Registration begins Jan. 15th
DESCRIPTION:Tweet
URL:https://www.topoi.net/event/winter-spring-2024-registration-begins-jan-15th
END:VEVENT
BEGIN:VEVENT
DTSTART;TZID=UTC:20231217T100000
DTEND;TZID=UTC:20231217T120000
DTSTAMP:20260425T034158
CREATED:20231126T125623Z
LAST-MODIFIED:20231126T125623Z
UID:4096-1702807200-1702814400@www.topoi.net
SUMMARY:The Other Clinic
DESCRIPTION:Tweet
URL:https://www.topoi.net/event/the-other-clinic-5
END:VEVENT
BEGIN:VEVENT
DTSTART;TZID=UTC:20231216T100000
DTEND;TZID=UTC:20231216T120000
DTSTAMP:20260425T034158
CREATED:20231126T125522Z
LAST-MODIFIED:20231126T125522Z
UID:4094-1702720800-1702728000@www.topoi.net
SUMMARY:Knot\, Logic\, Algebra
DESCRIPTION:Tweet
URL:https://www.topoi.net/event/knot-logic-algebra-10
END:VEVENT
BEGIN:VEVENT
DTSTART;TZID=UTC:20231209T100000
DTEND;TZID=UTC:20231209T120000
DTSTAMP:20260425T034158
CREATED:20231126T125410Z
LAST-MODIFIED:20231126T125410Z
UID:4092-1702116000-1702123200@www.topoi.net
SUMMARY:Number and Symptom
DESCRIPTION:Tweet
URL:https://www.topoi.net/event/number-and-symptom-3
END:VEVENT
BEGIN:VEVENT
DTSTART;TZID=UTC:20231206T100000
DTEND;TZID=UTC:20231206T120000
DTSTAMP:20260425T034158
CREATED:20231126T125151Z
LAST-MODIFIED:20231205T044940Z
UID:4088-1701856800-1701864000@www.topoi.net
SUMMARY:What is the Enlightenment? Did It Succeed or Fail? Beyond Wokism and Personal Freedom.
DESCRIPTION:Tweet
URL:https://www.topoi.net/event/madness-and-war-is-enlightenment-possible
END:VEVENT
BEGIN:VEVENT
DTSTART;TZID=UTC:20231203T100000
DTEND;TZID=UTC:20231203T120000
DTSTAMP:20260425T034158
CREATED:20231126T125302Z
LAST-MODIFIED:20231126T125302Z
UID:4090-1701597600-1701604800@www.topoi.net
SUMMARY:The Other Clinic
DESCRIPTION:Tweet
URL:https://www.topoi.net/event/the-other-clinic-4
END:VEVENT
END:VCALENDAR