BEGIN:VCALENDAR
VERSION:2.0
PRODID:-//Psychoanalysis Los Angeles California Extension - ECPv6.15.1.1//NONSGML v1.0//EN
CALSCALE:GREGORIAN
METHOD:PUBLISH
X-WR-CALNAME:Psychoanalysis Los Angeles California Extension
X-ORIGINAL-URL:https://www.topoi.net
X-WR-CALDESC:Events for Psychoanalysis Los Angeles California Extension
REFRESH-INTERVAL;VALUE=DURATION:PT1H
X-Robots-Tag:noindex
X-PUBLISHED-TTL:PT1H
BEGIN:VTIMEZONE
TZID:UTC
BEGIN:STANDARD
TZOFFSETFROM:+0000
TZOFFSETTO:+0000
TZNAME:UTC
DTSTART:20240101T000000
END:STANDARD
END:VTIMEZONE
BEGIN:VEVENT
DTSTART;TZID=UTC:20241222T080000
DTEND;TZID=UTC:20250124T170000
DTSTAMP:20260424T204826
CREATED:20241211T015332Z
LAST-MODIFIED:20241211T015332Z
UID:4269-1734854400-1737738000@www.topoi.net
SUMMARY:Holiday Break
DESCRIPTION:Tweet
URL:https://www.topoi.net/event/holiday-break
END:VEVENT
BEGIN:VEVENT
DTSTART;TZID=UTC:20241221T100000
DTEND;TZID=UTC:20241221T123000
DTSTAMP:20260424T204826
CREATED:20241211T015124Z
LAST-MODIFIED:20241211T015124Z
UID:4267-1734775200-1734784200@www.topoi.net
SUMMARY:Seminar – Direction of the Cure
DESCRIPTION:Tweet
URL:https://www.topoi.net/event/seminar-direction-of-the-cure
END:VEVENT
BEGIN:VEVENT
DTSTART;TZID=UTC:20241215T020000
DTEND;TZID=UTC:20241215T040000
DTSTAMP:20260424T204826
CREATED:20241211T020641Z
LAST-MODIFIED:20241211T045700Z
UID:4275-1734228000-1734235200@www.topoi.net
SUMMARY:Psychoanalysis and Politics – War in the Middle East
DESCRIPTION:Conference will be held in French (with no translator). The time in Paris 11:00am – 13:00\, but in PST it is 2:00am-4:00am. \nUn débat s’organisera à propos de la guerre Israël/Hamas-Hezbollah\, \net de ses conséquences : \n     – pour les Palestiniens\, les Libanais et les Israéliens\, \n     – pour les Juifs et les Musulmans en Europe\, \n     – tenant compte des manifestations diverses (y compris les signes extérieurs du soutien aux uns et aux autres\, les menaces\, souvent réalisées\, les « pogroms »\, etc.)\, \n     – et autres questions qui s’y rattachent. \nLe débat est ouvert. \nTweet
URL:https://www.topoi.net/event/psychoanalysis-and-politics-war-in-the-middle-east
END:VEVENT
BEGIN:VEVENT
DTSTART;TZID=UTC:20241214T100000
DTEND;TZID=UTC:20241214T120000
DTSTAMP:20260424T204826
CREATED:20241211T014324Z
LAST-MODIFIED:20241211T014324Z
UID:4265-1734170400-1734177600@www.topoi.net
SUMMARY:Logic Algebra Cartel
DESCRIPTION:Tweet
URL:https://www.topoi.net/event/logic-algebra-cartel-2
END:VEVENT
BEGIN:VEVENT
DTSTART;TZID=UTC:20241130T100000
DTEND;TZID=UTC:20241130T120000
DTSTAMP:20260424T204826
CREATED:20241028T045154Z
LAST-MODIFIED:20241028T045154Z
UID:4263-1732960800-1732968000@www.topoi.net
SUMMARY:Logic and Algebra Cartel
DESCRIPTION:Tweet
URL:https://www.topoi.net/event/logic-and-algebra-cartel-3
END:VEVENT
BEGIN:VEVENT
DTSTART;TZID=UTC:20241124T100000
DTEND;TZID=UTC:20241124T120000
DTSTAMP:20260424T204826
CREATED:20241028T045109Z
LAST-MODIFIED:20241028T045109Z
UID:4261-1732442400-1732449600@www.topoi.net
SUMMARY:Tragedy & Ethics Cartel
DESCRIPTION:Tweet
URL:https://www.topoi.net/event/tragedy-ethics-cartel
END:VEVENT
BEGIN:VEVENT
DTSTART;TZID=UTC:20241123T100000
DTEND;TZID=UTC:20241123T120000
DTSTAMP:20260424T204826
CREATED:20241028T044958Z
LAST-MODIFIED:20241028T044958Z
UID:4259-1732356000-1732363200@www.topoi.net
SUMMARY:Seminar: Logic\, Mathematics\, & the Direction of the Cure
DESCRIPTION:Tweet
URL:https://www.topoi.net/event/seminar-logic-mathematics-the-direction-of-the-cure-4
END:VEVENT
BEGIN:VEVENT
DTSTART;TZID=UTC:20241116T100000
DTEND;TZID=UTC:20241116T120000
DTSTAMP:20260424T204826
CREATED:20241028T044834Z
LAST-MODIFIED:20241028T044834Z
UID:4257-1731751200-1731758400@www.topoi.net
SUMMARY:Logic and Algebra Cartel
DESCRIPTION:Tweet
URL:https://www.topoi.net/event/logic-and-algebra-cartel-2
END:VEVENT
BEGIN:VEVENT
DTSTART;TZID=UTC:20241110T100000
DTEND;TZID=UTC:20241110T120000
DTSTAMP:20260424T204826
CREATED:20241028T044736Z
LAST-MODIFIED:20241028T044736Z
UID:4255-1731232800-1731240000@www.topoi.net
SUMMARY:Tragedy-Ethics Seminar
DESCRIPTION:Tweet
URL:https://www.topoi.net/event/tragedy-ethics-seminar
END:VEVENT
BEGIN:VEVENT
DTSTART;TZID=UTC:20241109T100000
DTEND;TZID=UTC:20241109T120000
DTSTAMP:20260424T204826
CREATED:20241001T092641Z
LAST-MODIFIED:20241001T092641Z
UID:4242-1731146400-1731153600@www.topoi.net
SUMMARY:Seminar: Logic\, Mathematics\, & The Direction of the Cure
DESCRIPTION:Tweet
URL:https://www.topoi.net/event/seminar-logic-mathematics-the-direction-of-the-cure-3
END:VEVENT
BEGIN:VEVENT
DTSTART;TZID=UTC:20241102T100000
DTEND;TZID=UTC:20241102T120000
DTSTAMP:20260424T204826
CREATED:20241028T044625Z
LAST-MODIFIED:20241028T044625Z
UID:4253-1730541600-1730548800@www.topoi.net
SUMMARY:Logic and Algebra Cartel
DESCRIPTION:Tweet
URL:https://www.topoi.net/event/logic-and-algebra-cartel
END:VEVENT
BEGIN:VEVENT
DTSTART;TZID=UTC:20241027T100000
DTEND;TZID=UTC:20241027T123000
DTSTAMP:20260424T204826
CREATED:20241003T012807Z
LAST-MODIFIED:20241009T011747Z
UID:4250-1730023200-1730032200@www.topoi.net
SUMMARY:Tragedy and Ethics
DESCRIPTION:Tweet
URL:https://www.topoi.net/event/tragedy-and-ethics-2
END:VEVENT
BEGIN:VEVENT
DTSTART;TZID=UTC:20241026T100000
DTEND;TZID=UTC:20241026T123000
DTSTAMP:20260424T204826
CREATED:20241001T092523Z
LAST-MODIFIED:20241001T092523Z
UID:4240-1729936800-1729945800@www.topoi.net
SUMMARY:Seminar: Logic\, Mathematics\, & The Direction of the Cure
DESCRIPTION:Tweet
URL:https://www.topoi.net/event/seminar-logic-mathematics-the-direction-of-the-cure-2
END:VEVENT
BEGIN:VEVENT
DTSTART;TZID=UTC:20241019T100000
DTEND;TZID=UTC:20241019T123000
DTSTAMP:20260424T204826
CREATED:20241003T012713Z
LAST-MODIFIED:20241003T012713Z
UID:4248-1729332000-1729341000@www.topoi.net
SUMMARY:Cartel: Logic and Algebra
DESCRIPTION:Tweet
URL:https://www.topoi.net/event/cartel-logic-and-algebra
END:VEVENT
BEGIN:VEVENT
DTSTART;TZID=UTC:20241012T100000
DTEND;TZID=UTC:20241012T123000
DTSTAMP:20260424T204826
CREATED:20241001T092353Z
LAST-MODIFIED:20241001T092353Z
UID:4238-1728727200-1728736200@www.topoi.net
SUMMARY:Seminar: Logic\, Mathematics\, & The Direction of the Cure
DESCRIPTION:Tweet
URL:https://www.topoi.net/event/seminar-logic-mathematics-the-direction-of-the-cure
END:VEVENT
BEGIN:VEVENT
DTSTART;TZID=UTC:20241006T100000
DTEND;TZID=UTC:20241006T123000
DTSTAMP:20260424T204826
CREATED:20241003T012528Z
LAST-MODIFIED:20241003T012528Z
UID:4246-1728208800-1728217800@www.topoi.net
SUMMARY:Tragedy and Ethics
DESCRIPTION:Tweet
URL:https://www.topoi.net/event/tragedy-and-ethics
END:VEVENT
BEGIN:VEVENT
DTSTART;TZID=UTC:20241005T100000
DTEND;TZID=UTC:20241005T120000
DTSTAMP:20260424T204826
CREATED:20241003T012442Z
LAST-MODIFIED:20241003T012442Z
UID:4244-1728122400-1728129600@www.topoi.net
SUMMARY:Cartel: Logic & Algebra
DESCRIPTION:Tweet
URL:https://www.topoi.net/event/cartel-logic-algebra
END:VEVENT
BEGIN:VEVENT
DTSTART;TZID=UTC:20240928T100000
DTEND;TZID=UTC:20240928T123000
DTSTAMP:20260424T204826
CREATED:20240917T232316Z
LAST-MODIFIED:20240917T232316Z
UID:4234-1727517600-1727526600@www.topoi.net
SUMMARY:First Fall Seminar: Logic\, Mathematics\, and the Direction of the Cure
DESCRIPTION:Tweet
URL:https://www.topoi.net/event/first-fall-seminar-logic-mathematics-and-the-direction-of-the-cure
END:VEVENT
BEGIN:VEVENT
DTSTART;TZID=UTC:20240802T223000
DTEND;TZID=UTC:20240921T223000
DTSTAMP:20260424T204826
CREATED:20240802T183709Z
LAST-MODIFIED:20240802T183853Z
UID:4208-1722637800-1726957800@www.topoi.net
SUMMARY:New Fall 2024 semester starts Sept. 28th/ Early Registration Open
DESCRIPTION:Tweet
URL:https://www.topoi.net/event/new-fall-2024-semester-starts-sept-28th-early-registration-open
END:VEVENT
BEGIN:VEVENT
DTSTART;TZID=UTC:20240728T113000
DTEND;TZID=UTC:20240728T130000
DTSTAMP:20260424T204826
CREATED:20240523T045045Z
LAST-MODIFIED:20240603T020720Z
UID:4194-1722166200-1722171600@www.topoi.net
SUMMARY:From Duality to NonBoolean Algebras
DESCRIPTION:Tweet
URL:https://www.topoi.net/event/from-duality-to-nonboolean-algebras-4
END:VEVENT
BEGIN:VEVENT
DTSTART;TZID=UTC:20240728T093000
DTEND;TZID=UTC:20240728T231500
DTSTAMP:20260424T204826
CREATED:20240523T045006Z
LAST-MODIFIED:20240603T020638Z
UID:4192-1722159000-1722208500@www.topoi.net
SUMMARY:Logic of Sexuation via
DESCRIPTION:Tweet
URL:https://www.topoi.net/event/logic-of-sexuation-via
END:VEVENT
BEGIN:VEVENT
DTSTART;TZID=UTC:20240727T113000
DTEND;TZID=UTC:20240727T130000
DTSTAMP:20260424T204826
CREATED:20240523T044733Z
LAST-MODIFIED:20240603T020520Z
UID:4190-1722079800-1722085200@www.topoi.net
SUMMARY:From Duality to NonBoolean Algebras
DESCRIPTION:Tweet
URL:https://www.topoi.net/event/from-duality-to-nonboolean-algebras-3
END:VEVENT
BEGIN:VEVENT
DTSTART;TZID=UTC:20240727T093000
DTEND;TZID=UTC:20240727T111500
DTSTAMP:20260424T204826
CREATED:20240523T044648Z
LAST-MODIFIED:20240603T020435Z
UID:4188-1722072600-1722078900@www.topoi.net
SUMMARY:Logic of Sexuation via
DESCRIPTION:Tweet
URL:https://www.topoi.net/event/logic-of-sexuation-3
END:VEVENT
BEGIN:VEVENT
DTSTART;TZID=UTC:20240714T113000
DTEND;TZID=UTC:20240714T130000
DTSTAMP:20260424T204826
CREATED:20240523T044033Z
LAST-MODIFIED:20240603T020249Z
UID:4185-1720956600-1720962000@www.topoi.net
SUMMARY:From Duality to NonBoolean Algebras
DESCRIPTION:Tweet
URL:https://www.topoi.net/event/from-duality-to-nonboolean-algebras-2
END:VEVENT
BEGIN:VEVENT
DTSTART;TZID=UTC:20240714T093000
DTEND;TZID=UTC:20240714T111500
DTSTAMP:20260424T204826
CREATED:20240523T043911Z
LAST-MODIFIED:20240603T020148Z
UID:4183-1720949400-1720955700@www.topoi.net
SUMMARY:Logic of Sexuation via
DESCRIPTION:Tweet
URL:https://www.topoi.net/event/logic-of-sexuation-2
END:VEVENT
BEGIN:VEVENT
DTSTART;TZID=UTC:20240713T113000
DTEND;TZID=UTC:20240713T130000
DTSTAMP:20260424T204826
CREATED:20240523T043714Z
LAST-MODIFIED:20240603T020010Z
UID:4181-1720870200-1720875600@www.topoi.net
SUMMARY:From Duality to NonBoolean Algebras
DESCRIPTION:Tweet
URL:https://www.topoi.net/event/from-duality-to-nonboolean-algebras
END:VEVENT
BEGIN:VEVENT
DTSTART;TZID=UTC:20240713T093000
DTEND;TZID=UTC:20240713T111500
DTSTAMP:20260424T204826
CREATED:20240523T043310Z
LAST-MODIFIED:20240603T015735Z
UID:4179-1720863000-1720869300@www.topoi.net
SUMMARY:Logic of Sexuation via
DESCRIPTION:Tweet
URL:https://www.topoi.net/event/logic-of-sexuation
END:VEVENT
BEGIN:VEVENT
DTSTART;TZID=UTC:20240707T113000
DTEND;TZID=UTC:20240707T130000
DTSTAMP:20260424T204826
CREATED:20240523T043048Z
LAST-MODIFIED:20240603T015857Z
UID:4177-1720351800-1720357200@www.topoi.net
SUMMARY:From Duality to Non-Boolean Algebras
DESCRIPTION:Tweet
URL:https://www.topoi.net/event/from-duality-to-non-boolean-algebras
END:VEVENT
BEGIN:VEVENT
DTSTART;TZID=UTC:20240706T093000
DTEND;TZID=UTC:20240706T113000
DTSTAMP:20260424T204826
CREATED:20240523T042802Z
LAST-MODIFIED:20240523T045257Z
UID:4174-1720258200-1720265400@www.topoi.net
SUMMARY:Summer Immersion – Logic of Sexuation via – First Meeting
DESCRIPTION:Logic of Sexuation via Predicate\, Propositional\, and Boolean Rings. \nTweet
URL:https://www.topoi.net/event/summer-immersion-first-meeting
END:VEVENT
BEGIN:VEVENT
DTSTART;TZID=UTC:20240601T100000
DTEND;TZID=UTC:20240601T123000
DTSTAMP:20260424T204826
CREATED:20240507T235607Z
LAST-MODIFIED:20240507T235607Z
UID:4168-1717236000-1717245000@www.topoi.net
SUMMARY:Number and Symptom
DESCRIPTION:Tweet
URL:https://www.topoi.net/event/number-and-symptom-8
END:VEVENT
END:VCALENDAR