BEGIN:VCALENDAR
VERSION:2.0
PRODID:-//Psychoanalysis Los Angeles California Extension - ECPv6.15.1.1//NONSGML v1.0//EN
CALSCALE:GREGORIAN
METHOD:PUBLISH
X-WR-CALNAME:Psychoanalysis Los Angeles California Extension
X-ORIGINAL-URL:https://www.topoi.net
X-WR-CALDESC:Events for Psychoanalysis Los Angeles California Extension
REFRESH-INTERVAL;VALUE=DURATION:PT1H
X-Robots-Tag:noindex
X-PUBLISHED-TTL:PT1H
BEGIN:VTIMEZONE
TZID:America/Los_Angeles
BEGIN:DAYLIGHT
TZOFFSETFROM:-0800
TZOFFSETTO:-0700
TZNAME:PDT
DTSTART:20250309T100000
END:DAYLIGHT
BEGIN:STANDARD
TZOFFSETFROM:-0700
TZOFFSETTO:-0800
TZNAME:PST
DTSTART:20251102T090000
END:STANDARD
END:VTIMEZONE
BEGIN:VTIMEZONE
TZID:UTC
BEGIN:STANDARD
TZOFFSETFROM:+0000
TZOFFSETTO:+0000
TZNAME:UTC
DTSTART:20240101T000000
END:STANDARD
END:VTIMEZONE
BEGIN:VEVENT
DTSTART;TZID=America/Los_Angeles:20251004T100000
DTEND;TZID=America/Los_Angeles:20251004T123000
DTSTAMP:20260425T083555
CREATED:20251027T023935Z
LAST-MODIFIED:20251027T023935Z
UID:4392-1759572000-1759581000@www.topoi.net
SUMMARY:Seminar – Peril of Structure
DESCRIPTION:Tweet
URL:https://www.topoi.net/event/seminar-peril-of-structure-4
END:VEVENT
BEGIN:VEVENT
DTSTART;TZID=America/Los_Angeles:20250705T100000
DTEND;TZID=America/Los_Angeles:20250705T123000
DTSTAMP:20260425T083555
CREATED:20250530T181403Z
LAST-MODIFIED:20250530T181403Z
UID:4345-1751709600-1751718600@www.topoi.net
SUMMARY:Summer Immersion: From Geometry to Topology
DESCRIPTION:Tweet
URL:https://www.topoi.net/event/summer-immersion-from-geometry-to-topology
END:VEVENT
BEGIN:VEVENT
DTSTART;TZID=America/Los_Angeles:20250614T100000
DTEND;TZID=America/Los_Angeles:20250614T123000
DTSTAMP:20260425T083555
CREATED:20250530T181121Z
LAST-MODIFIED:20250530T181121Z
UID:4343-1749895200-1749904200@www.topoi.net
SUMMARY:Summer 2025 General Assembly
DESCRIPTION:Tweet
URL:https://www.topoi.net/event/summer-2025-general-assembly
END:VEVENT
BEGIN:VEVENT
DTSTART;TZID=America/Los_Angeles:20250531T100000
DTEND;TZID=America/Los_Angeles:20250531T123000
DTSTAMP:20260425T083555
CREATED:20250530T180824Z
LAST-MODIFIED:20250530T180824Z
UID:4341-1748685600-1748694600@www.topoi.net
SUMMARY:Last Seminar of Semester: Orientation of the Cure
DESCRIPTION:Tweet
URL:https://www.topoi.net/event/last-seminar-of-semester-orientation-of-the-cure
END:VEVENT
BEGIN:VEVENT
DTSTART;TZID=America/Los_Angeles:20250504T100000
DTEND;TZID=America/Los_Angeles:20250504T120000
DTSTAMP:20260425T083555
CREATED:20250416T184026Z
LAST-MODIFIED:20250416T184026Z
UID:4338-1746352800-1746360000@www.topoi.net
SUMMARY:Cartel: Ethics -Tragedy
DESCRIPTION:Tweet
URL:https://www.topoi.net/event/cartel-ethics-tragedy-2
END:VEVENT
BEGIN:VEVENT
DTSTART;TZID=America/Los_Angeles:20250503T100000
DTEND;TZID=America/Los_Angeles:20250503T123000
DTSTAMP:20260425T083555
CREATED:20250416T183916Z
LAST-MODIFIED:20250416T183916Z
UID:4336-1746266400-1746275400@www.topoi.net
SUMMARY:Seminar: Orientation of the Cure
DESCRIPTION:Tweet
URL:https://www.topoi.net/event/seminar-orientation-of-the-cure-3
END:VEVENT
BEGIN:VEVENT
DTSTART;TZID=America/Los_Angeles:20250426T100000
DTEND;TZID=America/Los_Angeles:20250426T120000
DTSTAMP:20260425T083555
CREATED:20250416T183816Z
LAST-MODIFIED:20250416T183816Z
UID:4334-1745661600-1745668800@www.topoi.net
SUMMARY:Cartel: Algebra & Logic
DESCRIPTION:Tweet
URL:https://www.topoi.net/event/cartel-algebra-logic
END:VEVENT
BEGIN:VEVENT
DTSTART;TZID=America/Los_Angeles:20250420T100000
DTEND;TZID=America/Los_Angeles:20250420T120000
DTSTAMP:20260425T083555
CREATED:20250416T183703Z
LAST-MODIFIED:20250416T183703Z
UID:4332-1745143200-1745150400@www.topoi.net
SUMMARY:Cartel: Ethics/Tragedy
DESCRIPTION:Tweet
URL:https://www.topoi.net/event/cartel-ethics-tragedy
END:VEVENT
BEGIN:VEVENT
DTSTART;TZID=America/Los_Angeles:20250419T100000
DTEND;TZID=America/Los_Angeles:20250419T123000
DTSTAMP:20260425T083555
CREATED:20250416T183550Z
LAST-MODIFIED:20250416T183550Z
UID:4330-1745056800-1745065800@www.topoi.net
SUMMARY:Seminar: Orientation of the Cure
DESCRIPTION:Tweet
URL:https://www.topoi.net/event/seminar-orientation-of-the-cure-2
END:VEVENT
BEGIN:VEVENT
DTSTART;TZID=America/Los_Angeles:20250329T100000
DTEND;TZID=America/Los_Angeles:20250329T120000
DTSTAMP:20260425T083555
CREATED:20250314T184358Z
LAST-MODIFIED:20250314T184358Z
UID:4319-1743242400-1743249600@www.topoi.net
SUMMARY:Logic-Algebra Cartel
DESCRIPTION:Tweet
URL:https://www.topoi.net/event/logic-algebra-cartel-4
END:VEVENT
BEGIN:VEVENT
DTSTART;TZID=America/Los_Angeles:20250323T100000
DTEND;TZID=America/Los_Angeles:20250323T120000
DTSTAMP:20260425T083555
CREATED:20250314T184059Z
LAST-MODIFIED:20250314T184249Z
UID:4317-1742724000-1742731200@www.topoi.net
SUMMARY:Tragedy and Ethics Cartel
DESCRIPTION:Tweet
URL:https://www.topoi.net/event/tragedy-and-ethics-cartel-2
END:VEVENT
BEGIN:VEVENT
DTSTART;TZID=America/Los_Angeles:20250322T100000
DTEND;TZID=America/Los_Angeles:20250322T123000
DTSTAMP:20260425T083555
CREATED:20250314T183855Z
LAST-MODIFIED:20250314T183855Z
UID:4315-1742637600-1742646600@www.topoi.net
SUMMARY:Orientation of the Cure – And Its Topology
DESCRIPTION:Tweet
URL:https://www.topoi.net/event/orientation-of-the-cure-and-its-topology
END:VEVENT
BEGIN:VEVENT
DTSTART;TZID=America/Los_Angeles:20250316T100000
DTEND;TZID=America/Los_Angeles:20250316T123000
DTSTAMP:20260425T083555
CREATED:20250314T184548Z
LAST-MODIFIED:20250314T184548Z
UID:4323-1742119200-1742128200@www.topoi.net
SUMMARY:Tragedy-Ethics Cartel
DESCRIPTION:Tweet
URL:https://www.topoi.net/event/tragedy-ethics-cartel-2
END:VEVENT
BEGIN:VEVENT
DTSTART;TZID=America/Los_Angeles:20250316T100000
DTEND;TZID=America/Los_Angeles:20250316T120000
DTSTAMP:20260425T083555
CREATED:20250314T183647Z
LAST-MODIFIED:20250314T183647Z
UID:4313-1742119200-1742126400@www.topoi.net
SUMMARY:Geometry\, Group\, Category Cartel
DESCRIPTION:Tweet
URL:https://www.topoi.net/event/geometry-group-category-cartel
END:VEVENT
BEGIN:VEVENT
DTSTART;TZID=America/Los_Angeles:20250315T100000
DTEND;TZID=America/Los_Angeles:20250315T120000
DTSTAMP:20260425T083555
CREATED:20250314T183536Z
LAST-MODIFIED:20250314T183536Z
UID:4311-1742032800-1742040000@www.topoi.net
SUMMARY:Logic-Algebra Cartel
DESCRIPTION:Tweet
URL:https://www.topoi.net/event/logic-algebra-cartel-3
END:VEVENT
BEGIN:VEVENT
DTSTART;TZID=America/Los_Angeles:20250308T100000
DTEND;TZID=America/Los_Angeles:20250308T123000
DTSTAMP:20260425T083555
CREATED:20250314T184457Z
LAST-MODIFIED:20250314T184457Z
UID:4321-1741428000-1741437000@www.topoi.net
SUMMARY:Orientation of the Cure
DESCRIPTION:Tweet
URL:https://www.topoi.net/event/orientation-of-the-cure-2
END:VEVENT
BEGIN:VEVENT
DTSTART;TZID=America/Los_Angeles:20250301T100000
DTEND;TZID=America/Los_Angeles:20250301T123000
DTSTAMP:20260425T083555
CREATED:20250212T183909Z
LAST-MODIFIED:20250212T183909Z
UID:4307-1740823200-1740832200@www.topoi.net
SUMMARY:Logic and Algebra
DESCRIPTION:Tweet
URL:https://www.topoi.net/event/logic-and-algebra-2
END:VEVENT
BEGIN:VEVENT
DTSTART;TZID=America/Los_Angeles:20250223T100000
DTEND;TZID=America/Los_Angeles:20250223T123000
DTSTAMP:20260425T083555
CREATED:20250212T183646Z
LAST-MODIFIED:20250212T183646Z
UID:4303-1740304800-1740313800@www.topoi.net
SUMMARY:Tragedy and Ethics Cartel
DESCRIPTION:Tweet
URL:https://www.topoi.net/event/tragedy-and-ethics-cartel
END:VEVENT
BEGIN:VEVENT
DTSTART;TZID=America/Los_Angeles:20250222T100000
DTEND;TZID=America/Los_Angeles:20250222T123000
DTSTAMP:20260425T083555
CREATED:20250212T182817Z
LAST-MODIFIED:20250212T182817Z
UID:4301-1740218400-1740227400@www.topoi.net
SUMMARY:Orientation of the Cure
DESCRIPTION:Tweet
URL:https://www.topoi.net/event/orientation-of-the-cure
END:VEVENT
BEGIN:VEVENT
DTSTART;TZID=America/Los_Angeles:20250216T100000
DTEND;TZID=America/Los_Angeles:20250216T120000
DTSTAMP:20260425T083555
CREATED:20250128T213911Z
LAST-MODIFIED:20250128T213911Z
UID:4298-1739700000-1739707200@www.topoi.net
SUMMARY:Geometries\, Categories\, Groups
DESCRIPTION:Tweet
URL:https://www.topoi.net/event/geometries-categories-groups
END:VEVENT
BEGIN:VEVENT
DTSTART;TZID=America/Los_Angeles:20250215T100000
DTEND;TZID=America/Los_Angeles:20250215T120000
DTSTAMP:20260425T083555
CREATED:20250128T184109Z
LAST-MODIFIED:20250128T184109Z
UID:4296-1739613600-1739620800@www.topoi.net
SUMMARY:Logic and Algebra
DESCRIPTION:Tweet
URL:https://www.topoi.net/event/logic-and-algebra
END:VEVENT
BEGIN:VEVENT
DTSTART;TZID=America/Los_Angeles:20250209T100000
DTEND;TZID=America/Los_Angeles:20250209T120000
DTSTAMP:20260425T083555
CREATED:20250128T182554Z
LAST-MODIFIED:20250128T182554Z
UID:4294-1739095200-1739102400@www.topoi.net
SUMMARY:Tragedy and Ethics
DESCRIPTION:Tweet
URL:https://www.topoi.net/event/tragedy-and-ethics-3
END:VEVENT
BEGIN:VEVENT
DTSTART;TZID=UTC:20250208T100000
DTEND;TZID=UTC:20250208T123000
DTSTAMP:20260425T083555
CREATED:20250129T013514Z
LAST-MODIFIED:20250129T013514Z
UID:4287-1739008800-1739017800@www.topoi.net
SUMMARY:Seminar: Orientation of the Cure
DESCRIPTION:Tweet
URL:https://www.topoi.net/event/seminar-orientation-of-the-cure
END:VEVENT
BEGIN:VEVENT
DTSTART;TZID=America/Los_Angeles:20250201T100000
DTEND;TZID=America/Los_Angeles:20250201T120000
DTSTAMP:20260425T083555
CREATED:20250128T182338Z
LAST-MODIFIED:20250128T182338Z
UID:4292-1738404000-1738411200@www.topoi.net
SUMMARY:Cartel - Logic and Algebra
DESCRIPTION:Tweet
URL:https://www.topoi.net/event/cartel-logic-and-algebra-2
END:VEVENT
BEGIN:VEVENT
DTSTART;TZID=UTC:20250125T100000
DTEND;TZID=UTC:20250125T123000
DTSTAMP:20260425T083555
CREATED:20241211T015517Z
LAST-MODIFIED:20241211T015517Z
UID:4271-1737799200-1737808200@www.topoi.net
SUMMARY:Winter Semester Begins: Seminar – Direction of the Cure
DESCRIPTION:Tweet
URL:https://www.topoi.net/event/winter-semester-begins-seminar-direction-of-the-cure
END:VEVENT
BEGIN:VEVENT
DTSTART;TZID=UTC:20250101T100000
DTEND;TZID=UTC:20250124T170000
DTSTAMP:20260425T083555
CREATED:20241211T015723Z
LAST-MODIFIED:20241211T015723Z
UID:4273-1735725600-1737738000@www.topoi.net
SUMMARY:Registration for 2025 Winter Spring Semester Open
DESCRIPTION:Tweet
URL:https://www.topoi.net/event/registration-for-2025-winter-spring-semester-open
END:VEVENT
BEGIN:VEVENT
DTSTART;TZID=UTC:20241222T080000
DTEND;TZID=UTC:20250124T170000
DTSTAMP:20260425T083555
CREATED:20241211T015332Z
LAST-MODIFIED:20241211T015332Z
UID:4269-1734854400-1737738000@www.topoi.net
SUMMARY:Holiday Break
DESCRIPTION:Tweet
URL:https://www.topoi.net/event/holiday-break
END:VEVENT
BEGIN:VEVENT
DTSTART;TZID=UTC:20241221T100000
DTEND;TZID=UTC:20241221T123000
DTSTAMP:20260425T083555
CREATED:20241211T015124Z
LAST-MODIFIED:20241211T015124Z
UID:4267-1734775200-1734784200@www.topoi.net
SUMMARY:Seminar – Direction of the Cure
DESCRIPTION:Tweet
URL:https://www.topoi.net/event/seminar-direction-of-the-cure
END:VEVENT
BEGIN:VEVENT
DTSTART;TZID=UTC:20241215T020000
DTEND;TZID=UTC:20241215T040000
DTSTAMP:20260425T083555
CREATED:20241211T020641Z
LAST-MODIFIED:20241211T045700Z
UID:4275-1734228000-1734235200@www.topoi.net
SUMMARY:Psychoanalysis and Politics – War in the Middle East
DESCRIPTION:Conference will be held in French (with no translator). The time in Paris 11:00am – 13:00\, but in PST it is 2:00am-4:00am. \nUn débat s’organisera à propos de la guerre Israël/Hamas-Hezbollah\, \net de ses conséquences : \n     – pour les Palestiniens\, les Libanais et les Israéliens\, \n     – pour les Juifs et les Musulmans en Europe\, \n     – tenant compte des manifestations diverses (y compris les signes extérieurs du soutien aux uns et aux autres\, les menaces\, souvent réalisées\, les « pogroms »\, etc.)\, \n     – et autres questions qui s’y rattachent. \nLe débat est ouvert. \nTweet
URL:https://www.topoi.net/event/psychoanalysis-and-politics-war-in-the-middle-east
END:VEVENT
BEGIN:VEVENT
DTSTART;TZID=UTC:20241214T100000
DTEND;TZID=UTC:20241214T120000
DTSTAMP:20260425T083555
CREATED:20241211T014324Z
LAST-MODIFIED:20241211T014324Z
UID:4265-1734170400-1734177600@www.topoi.net
SUMMARY:Logic Algebra Cartel
DESCRIPTION:Tweet
URL:https://www.topoi.net/event/logic-algebra-cartel-2
END:VEVENT
END:VCALENDAR