BEGIN:VCALENDAR
VERSION:2.0
PRODID:-//Psychoanalysis Los Angeles California Extension - ECPv6.15.1.1//NONSGML v1.0//EN
CALSCALE:GREGORIAN
METHOD:PUBLISH
X-WR-CALNAME:Psychoanalysis Los Angeles California Extension
X-ORIGINAL-URL:https://www.topoi.net
X-WR-CALDESC:Events for Psychoanalysis Los Angeles California Extension
REFRESH-INTERVAL;VALUE=DURATION:PT1H
X-Robots-Tag:noindex
X-PUBLISHED-TTL:PT1H
BEGIN:VTIMEZONE
TZID:UTC
BEGIN:STANDARD
TZOFFSETFROM:+0000
TZOFFSETTO:+0000
TZNAME:UTC
DTSTART:20180101T000000
END:STANDARD
END:VTIMEZONE
BEGIN:VEVENT
DTSTART;TZID=UTC:20181124T100000
DTEND;TZID=UTC:20181124T123000
DTSTAMP:20260425T183907
CREATED:20181006T043441Z
LAST-MODIFIED:20181006T043441Z
UID:3250-1543053600-1543062600@www.topoi.net
SUMMARY:Seminar: Constructing Oedipus by R. Groome
DESCRIPTION:Tweet
URL:https://www.topoi.net/event/seminar-constructing-oedipus-by-r-groome-2
END:VEVENT
BEGIN:VEVENT
DTSTART;TZID=UTC:20181117T100000
DTEND;TZID=UTC:20181117T123000
DTSTAMP:20260425T183907
CREATED:20181006T043241Z
LAST-MODIFIED:20181031T043941Z
UID:3248-1542448800-1542457800@www.topoi.net
SUMMARY:Cartel: Set theory\, Logic\, Peirce\, and Lacan
DESCRIPTION:Tweet
URL:https://www.topoi.net/event/seminar-antithetical-meanings-and-indiscernible-names-by-a-lotfalian
END:VEVENT
BEGIN:VEVENT
DTSTART;TZID=UTC:20181115T183000
DTEND;TZID=UTC:20181115T200000
DTSTAMP:20260425T183907
CREATED:20181031T044151Z
LAST-MODIFIED:20181031T044212Z
UID:3287-1542306600-1542312000@www.topoi.net
SUMMARY:Anti-thetical Meanings\, seminar by A. Lotfalian
DESCRIPTION:Tweet
URL:https://www.topoi.net/event/anti-thetical-meanings-seminar-by-a-lotfalian-2
END:VEVENT
BEGIN:VEVENT
DTSTART;TZID=UTC:20181110T100000
DTEND;TZID=UTC:20181110T123000
DTSTAMP:20260425T183907
CREATED:20181006T043118Z
LAST-MODIFIED:20181006T043143Z
UID:3246-1541844000-1541853000@www.topoi.net
SUMMARY:Seminar: Constructing Oedipus by R. Groome
DESCRIPTION:Tweet
URL:https://www.topoi.net/event/seminar-constructing-oedipus-by-r-groome
END:VEVENT
BEGIN:VEVENT
DTSTART;TZID=UTC:20181103T100000
DTEND;TZID=UTC:20181103T123000
DTSTAMP:20260425T183907
CREATED:20181006T042835Z
LAST-MODIFIED:20181031T043822Z
UID:3240-1541239200-1541248200@www.topoi.net
SUMMARY:Cartel: Set Theory\, Logic\, Peirce\, and Lacan
DESCRIPTION:Tweet
URL:https://www.topoi.net/event/antithetical-meanings-and-indiscernible-names-by-a-lotfalian
END:VEVENT
BEGIN:VEVENT
DTSTART;TZID=UTC:20181101T183000
DTEND;TZID=UTC:20181101T200000
DTSTAMP:20260425T183907
CREATED:20181031T043627Z
LAST-MODIFIED:20181031T044306Z
UID:3283-1541097000-1541102400@www.topoi.net
SUMMARY:Anti-Thetical Meanings Seminar\, by A. Lotfalian
DESCRIPTION:Tweet
URL:https://www.topoi.net/event/anti-thetical-meanings-seminar-by-a-lotfalian
END:VEVENT
BEGIN:VEVENT
DTSTART;TZID=UTC:20181027T100000
DTEND;TZID=UTC:20181027T123000
DTSTAMP:20260425T183907
CREATED:20181006T040746Z
LAST-MODIFIED:20181006T044626Z
UID:3226-1540634400-1540643400@www.topoi.net
SUMMARY:Seminar: Constructing Oedipus by R.Groome
DESCRIPTION:First Fall 2018 Seminar: Constructing Oedipus in a Logic of Narcissism \n \nTweet
URL:https://www.topoi.net/event/constructing-oedipus-by-r-groome
END:VEVENT
BEGIN:VEVENT
DTSTART;VALUE=DATE:20181021
DTEND;VALUE=DATE:20181022
DTSTAMP:20260425T183907
CREATED:20181006T041013Z
LAST-MODIFIED:20181006T041850Z
UID:3229-1540080000-1540166399@www.topoi.net
SUMMARY:ISEPP Conference Toronto
DESCRIPTION:Re-thinking Criminality and Madness: Conference of Robert Groome in behalf of PLACE in Toronto at the International Society for Ethical Psychology and Psychiatry \nTweet
URL:https://www.topoi.net/event/isepp-conference
END:VEVENT
BEGIN:VEVENT
DTSTART;TZID=UTC:20181020T080000
DTEND;TZID=UTC:20181020T210000
DTSTAMP:20260425T183907
CREATED:20181006T040605Z
LAST-MODIFIED:20181006T041938Z
UID:3224-1540022400-1540069200@www.topoi.net
SUMMARY:ISEPP Conference Toronto - Re-thinking Criminality and Madness
DESCRIPTION:Re-thinking Criminality and Madness: Conference of Robert Groome in behalf of PLACE in Toronto at the International Society for Ethical Psychology and Psychiatry \n  \nTweet
URL:https://www.topoi.net/event/isepp-conference-re-thinking-criminality-and-madness
END:VEVENT
BEGIN:VEVENT
DTSTART;VALUE=DATE:20181019
DTEND;VALUE=DATE:20181020
DTSTAMP:20260425T183907
CREATED:20181006T041705Z
LAST-MODIFIED:20181006T041824Z
UID:3234-1539907200-1539993599@www.topoi.net
SUMMARY:ISEPP Conference Toronto
DESCRIPTION:International Society for Ethical Psychology and Psychiatry \nTweet
URL:https://www.topoi.net/event/isepp
END:VEVENT
BEGIN:VEVENT
DTSTART;TZID=UTC:20181013T100000
DTEND;TZID=UTC:20181013T123000
DTSTAMP:20260425T183907
CREATED:20181006T035738Z
LAST-MODIFIED:20181006T044810Z
UID:3222-1539424800-1539433800@www.topoi.net
SUMMARY:Seminar: Constructing Oedipus by R. Groome
DESCRIPTION:See https://www.topoi.net/first-fall-2018-seminar-constructing-oedipus-in-a-logic-of-narcissism.html \nTweet
URL:https://www.topoi.net/event/constructing-oedipus
END:VEVENT
BEGIN:VEVENT
DTSTART;TZID=UTC:20181006T100000
DTEND;TZID=UTC:20181006T123000
DTSTAMP:20260425T183907
CREATED:20181006T035547Z
LAST-MODIFIED:20181006T035547Z
UID:3220-1538820000-1538829000@www.topoi.net
SUMMARY:First Fall Cartel - Logic\, Set\, Peirce
DESCRIPTION:The first meeting of the Logic-Set-Peirce Cartel will meet Sat. the 6th\, from 10:00am to 12:00pm at PLACE at Euclid.How many times per month and the dates will be established on the first meeting. \nIf you are an auditor at PLACE\, you may attend this cartel. \nThe cartel is oriented towards bringing together set theory and logic with regard to the writings of Peirce and Lacanian psychoanalysis.  No previous knowledge of these domains are assumed on the part of the participant. You can\, however\, consult Quine’s Methods of Logic and Philosophy of Logic to develop as an introduction to Logic. References to Peirce and Lacan will be given in the cartel. \nAny questions can be directed to this address\, \nAdmin \nTweet
URL:https://www.topoi.net/event/first-fall-cartel-logic-set-peirce
END:VEVENT
BEGIN:VEVENT
DTSTART;TZID=UTC:20180929T100000
DTEND;TZID=UTC:20180929T123000
DTSTAMP:20260425T183907
CREATED:20180903T112027Z
LAST-MODIFIED:20180903T112027Z
UID:3193-1538215200-1538224200@www.topoi.net
SUMMARY:First Fall Seminar - Constructing Oedipus
DESCRIPTION:Tweet
URL:https://www.topoi.net/event/first-fall-seminar-constructing-oedipus
END:VEVENT
BEGIN:VEVENT
DTSTART;TZID=UTC:20180928T080000
DTEND;TZID=UTC:20180928T170000
DTSTAMP:20260425T183907
CREATED:20180903T112815Z
LAST-MODIFIED:20180903T112815Z
UID:3197-1538121600-1538154000@www.topoi.net
SUMMARY:End of 2018  Fall Registration
DESCRIPTION:Tweet
URL:https://www.topoi.net/event/end-of-2018-fall-registration
END:VEVENT
BEGIN:VEVENT
DTSTART;TZID=UTC:20180927T080000
DTEND;TZID=UTC:20180927T170000
DTSTAMP:20260425T183907
CREATED:20180903T113408Z
LAST-MODIFIED:20180903T113408Z
UID:3202-1538035200-1538067600@www.topoi.net
SUMMARY:October Cartel Topics\, Dates\, and Times Announced
DESCRIPTION:Tweet
URL:https://www.topoi.net/event/october-cartel-topics-dates-and-times-announced
END:VEVENT
BEGIN:VEVENT
DTSTART;TZID=UTC:20180924T080000
DTEND;TZID=UTC:20180924T170000
DTSTAMP:20260425T183907
CREATED:20180903T113252Z
LAST-MODIFIED:20180903T113302Z
UID:3199-1537776000-1537808400@www.topoi.net
SUMMARY:End of 2018 Cartel Vectorization
DESCRIPTION:All cartel topics are now due. \nTweet
URL:https://www.topoi.net/event/end-of-2018-cartel-vectorizaiton
END:VEVENT
BEGIN:VEVENT
DTSTART;TZID=UTC:20180903T080000
DTEND;TZID=UTC:20180903T170000
DTSTAMP:20260425T183907
CREATED:20180903T112614Z
LAST-MODIFIED:20180903T112614Z
UID:3195-1535961600-1535994000@www.topoi.net
SUMMARY:Vectorization of 2018 Cartels Now Open
DESCRIPTION:Cartels begin in October 2018. (Dates to be announced by email) \nPlease send in three topics you would care to study in the 2018 Fall Semester to the secretary. \nOne cartel from the last Spring semester\, Generalized Economy\, can be voted on to carry over to this Fall 2018 semester. If you care to join this cartel\, please include it as one of your three topics. \nYou will be notified the last week of September as to which cartels have formed\, times\, and dates. \nTweet
URL:https://www.topoi.net/event/vectorization-of-2018-cartels-now-open
END:VEVENT
BEGIN:VEVENT
DTSTART;TZID=UTC:20180903T080000
DTEND;TZID=UTC:20180903T170000
DTSTAMP:20260425T183907
CREATED:20180903T111825Z
LAST-MODIFIED:20180903T111825Z
UID:3191-1535961600-1535994000@www.topoi.net
SUMMARY:Registration for 2018 Fall Semester Now Open
DESCRIPTION:Tweet
URL:https://www.topoi.net/event/registration-for-2018-fall-semester-now-open
END:VEVENT
BEGIN:VEVENT
DTSTART;TZID=UTC:20180804T100000
DTEND;TZID=UTC:20180804T130000
DTSTAMP:20260425T183907
CREATED:20180521T042410Z
LAST-MODIFIED:20180521T042410Z
UID:3186-1533376800-1533387600@www.topoi.net
SUMMARY:Summer Immersion
DESCRIPTION:Tweet
URL:https://www.topoi.net/event/summer-immersion-5
END:VEVENT
BEGIN:VEVENT
DTSTART;TZID=UTC:20180728T100000
DTEND;TZID=UTC:20180728T130000
DTSTAMP:20260425T183907
CREATED:20180521T042320Z
LAST-MODIFIED:20180521T042320Z
UID:3183-1532772000-1532782800@www.topoi.net
SUMMARY:Summer Immersion
DESCRIPTION:Tweet
URL:https://www.topoi.net/event/summer-immersion-4
END:VEVENT
BEGIN:VEVENT
DTSTART;TZID=UTC:20180721T100000
DTEND;TZID=UTC:20180721T130000
DTSTAMP:20260425T183907
CREATED:20180521T042235Z
LAST-MODIFIED:20180521T042235Z
UID:3181-1532167200-1532178000@www.topoi.net
SUMMARY:Summer Immersion
DESCRIPTION:Tweet
URL:https://www.topoi.net/event/summer-immersion-3
END:VEVENT
BEGIN:VEVENT
DTSTART;TZID=UTC:20180714T100000
DTEND;TZID=UTC:20180714T130000
DTSTAMP:20260425T183907
CREATED:20180521T042121Z
LAST-MODIFIED:20180521T042121Z
UID:3178-1531562400-1531573200@www.topoi.net
SUMMARY:Summer Immersion
DESCRIPTION:Tweet
URL:https://www.topoi.net/event/summer-immersion-2
END:VEVENT
BEGIN:VEVENT
DTSTART;TZID=UTC:20180707T100000
DTEND;TZID=UTC:20180707T130000
DTSTAMP:20260425T183907
CREATED:20180521T040514Z
LAST-MODIFIED:20180521T041933Z
UID:3174-1530957600-1530968400@www.topoi.net
SUMMARY:Summer Immersion: The Logic of Identity & Difference
DESCRIPTION:Subject: Immersive introduction to the Logic of Predicates-Model Theory with a special focus on the problem of writing Identity. We will conclude with a reasoned presentation of Lacan’s logical theory of sexuation. \nDuration: 5 weeks \nFrequency: Meets every Saturday in July from 10:00am to 1:00pm. until the first week of August. \nTuition: $400. \nInstructor: R.T.Groome with Guests \nTweet
URL:https://www.topoi.net/event/summer-immersion-the-logic-of-identity-difference
END:VEVENT
BEGIN:VEVENT
DTSTART;TZID=UTC:20180616T100000
DTEND;TZID=UTC:20180616T130000
DTSTAMP:20260425T183907
CREATED:20180521T040115Z
LAST-MODIFIED:20180521T040302Z
UID:3172-1529143200-1529154000@www.topoi.net
SUMMARY:General Assembly 2018
DESCRIPTION:Tweet
URL:https://www.topoi.net/event/general-assembly-2018
END:VEVENT
BEGIN:VEVENT
DTSTART;TZID=UTC:20180602T100000
DTEND;TZID=UTC:20180602T123000
DTSTAMP:20260425T183907
CREATED:20180521T034737Z
LAST-MODIFIED:20180521T034828Z
UID:3166-1527933600-1527942600@www.topoi.net
SUMMARY:End of Spring Semester Seminar: Constructing Oedipus
DESCRIPTION:Tweet
URL:https://www.topoi.net/event/end-of-semester-seminar-constructing-oedipus
END:VEVENT
BEGIN:VEVENT
DTSTART;TZID=UTC:20180526T100000
DTEND;TZID=UTC:20180526T123000
DTSTAMP:20260425T183907
CREATED:20180508T004306Z
LAST-MODIFIED:20180508T004306Z
UID:3162-1527328800-1527337800@www.topoi.net
SUMMARY:General Economy Cartel
DESCRIPTION:Tweet
URL:https://www.topoi.net/event/general-economy-cartel-2
END:VEVENT
BEGIN:VEVENT
DTSTART;TZID=UTC:20180519T080000
DTEND;TZID=UTC:20180519T170000
DTSTAMP:20260425T183907
CREATED:20180207T152112Z
LAST-MODIFIED:20180207T152112Z
UID:3087-1526716800-1526749200@www.topoi.net
SUMMARY:Constructing Oedipus Seminar
DESCRIPTION:Tweet
URL:https://www.topoi.net/event/constructing-oedipus-seminar-19
END:VEVENT
BEGIN:VEVENT
DTSTART;TZID=UTC:20180510T183000
DTEND;TZID=UTC:20180510T210000
DTSTAMP:20260425T183907
CREATED:20180508T004019Z
LAST-MODIFIED:20180508T004119Z
UID:3160-1525977000-1525986000@www.topoi.net
SUMMARY:General Economy Cartel
DESCRIPTION:Tweet
URL:https://www.topoi.net/event/general-economy-cartel
END:VEVENT
BEGIN:VEVENT
DTSTART;TZID=UTC:20180505T080000
DTEND;TZID=UTC:20180505T170000
DTSTAMP:20260425T183907
CREATED:20180207T151846Z
LAST-MODIFIED:20180207T151846Z
UID:3085-1525507200-1525539600@www.topoi.net
SUMMARY:Constructing Oedipus Seminar
DESCRIPTION:Tweet
URL:https://www.topoi.net/event/constructing-oedipus-seminar-18
END:VEVENT
BEGIN:VEVENT
DTSTART;TZID=UTC:20180428T100000
DTEND;TZID=UTC:20180428T123000
DTSTAMP:20260425T183907
CREATED:20180413T003857Z
LAST-MODIFIED:20180413T005457Z
UID:3154-1524909600-1524918600@www.topoi.net
SUMMARY:General Economy - Bitcoin presentation
DESCRIPTION:Tweet
URL:https://www.topoi.net/event/general-economy
END:VEVENT
END:VCALENDAR