BEGIN:VCALENDAR
VERSION:2.0
PRODID:-//Psychoanalysis Los Angeles California Extension - ECPv6.15.1.1//NONSGML v1.0//EN
CALSCALE:GREGORIAN
METHOD:PUBLISH
X-WR-CALNAME:Psychoanalysis Los Angeles California Extension
X-ORIGINAL-URL:https://www.topoi.net
X-WR-CALDESC:Events for Psychoanalysis Los Angeles California Extension
REFRESH-INTERVAL;VALUE=DURATION:PT1H
X-Robots-Tag:noindex
X-PUBLISHED-TTL:PT1H
BEGIN:VTIMEZONE
TZID:UTC
BEGIN:STANDARD
TZOFFSETFROM:+0000
TZOFFSETTO:+0000
TZNAME:UTC
DTSTART:20190101T000000
END:STANDARD
END:VTIMEZONE
BEGIN:VEVENT
DTSTART;TZID=UTC:20200523T100000
DTEND;TZID=UTC:20200523T123000
DTSTAMP:20260425T103802
CREATED:20200513T073826Z
LAST-MODIFIED:20200513T073826Z
UID:3624-1590228000-1590237000@www.topoi.net
SUMMARY:Constructing Oedipus
DESCRIPTION:Tweet
URL:https://www.topoi.net/event/constructing-oedipus-8
END:VEVENT
BEGIN:VEVENT
DTSTART;TZID=UTC:20200516T100000
DTEND;TZID=UTC:20200516T120000
DTSTAMP:20260425T103802
CREATED:20200513T072938Z
LAST-MODIFIED:20200513T072938Z
UID:3622-1589623200-1589630400@www.topoi.net
SUMMARY:Logic-Set theory cartel
DESCRIPTION:Tweet
URL:https://www.topoi.net/event/logic-set-theory-cartel-3
END:VEVENT
BEGIN:VEVENT
DTSTART;TZID=UTC:20200425T100000
DTEND;TZID=UTC:20200425T123000
DTSTAMP:20260425T103802
CREATED:20200325T132322Z
LAST-MODIFIED:20200325T132322Z
UID:3620-1587808800-1587817800@www.topoi.net
SUMMARY:Oedipus Constructed (finally)
DESCRIPTION:Tweet
URL:https://www.topoi.net/event/oedipus-constructed-finally-4
END:VEVENT
BEGIN:VEVENT
DTSTART;TZID=UTC:20200418T100000
DTEND;TZID=UTC:20200418T123000
DTSTAMP:20260425T103802
CREATED:20200325T132150Z
LAST-MODIFIED:20200325T132150Z
UID:3618-1587204000-1587213000@www.topoi.net
SUMMARY:Logic-Set theory Cartel
DESCRIPTION:Tweet
URL:https://www.topoi.net/event/logic-set-theory-cartel-2
END:VEVENT
BEGIN:VEVENT
DTSTART;TZID=UTC:20200411T100000
DTEND;TZID=UTC:20200411T123000
DTSTAMP:20260425T103802
CREATED:20200325T132036Z
LAST-MODIFIED:20200325T132036Z
UID:3616-1586599200-1586608200@www.topoi.net
SUMMARY:Oedipus Constructed (finally)
DESCRIPTION:Tweet
URL:https://www.topoi.net/event/oedipus-constructed-finally-3
END:VEVENT
BEGIN:VEVENT
DTSTART;TZID=UTC:20200404T100000
DTEND;TZID=UTC:20200404T123000
DTSTAMP:20260425T103802
CREATED:20200325T131929Z
LAST-MODIFIED:20200325T131929Z
UID:3614-1585994400-1586003400@www.topoi.net
SUMMARY:Logic-Set Theory Cartel
DESCRIPTION:Tweet
URL:https://www.topoi.net/event/logic-set-theory-cartel
END:VEVENT
BEGIN:VEVENT
DTSTART;TZID=UTC:20200328T100000
DTEND;TZID=UTC:20200328T123000
DTSTAMP:20260425T103802
CREATED:20200325T131826Z
LAST-MODIFIED:20200325T131826Z
UID:3612-1585389600-1585398600@www.topoi.net
SUMMARY:Constructing Oedipus (finally)
DESCRIPTION:Tweet
URL:https://www.topoi.net/event/constructing-oedipus-finally-2
END:VEVENT
BEGIN:VEVENT
DTSTART;TZID=UTC:20200314T100000
DTEND;TZID=UTC:20200314T120000
DTSTAMP:20260425T103802
CREATED:20200205T054822Z
LAST-MODIFIED:20200205T054822Z
UID:3604-1584180000-1584187200@www.topoi.net
SUMMARY:Constructing Oedipus (finally)
DESCRIPTION:Tweet
URL:https://www.topoi.net/event/constructing-oedipus-finally
END:VEVENT
BEGIN:VEVENT
DTSTART;TZID=UTC:20200307T100000
DTEND;TZID=UTC:20200307T120000
DTSTAMP:20260425T103802
CREATED:20200205T054912Z
LAST-MODIFIED:20200205T054912Z
UID:3606-1583575200-1583582400@www.topoi.net
SUMMARY:Logic and Set Theory
DESCRIPTION:Tweet
URL:https://www.topoi.net/event/logic-and-set-theory-2
END:VEVENT
BEGIN:VEVENT
DTSTART;TZID=UTC:20200229T100000
DTEND;TZID=UTC:20200229T120000
DTSTAMP:20260425T103802
CREATED:20200205T052421Z
LAST-MODIFIED:20200205T052421Z
UID:3602-1582970400-1582977600@www.topoi.net
SUMMARY:Oedipus Constructed (Finally)
DESCRIPTION:Tweet
URL:https://www.topoi.net/event/oedipus-constructed-finally-2
END:VEVENT
BEGIN:VEVENT
DTSTART;TZID=UTC:20200222T100000
DTEND;TZID=UTC:20200222T120000
DTSTAMP:20260425T103802
CREATED:20200205T052325Z
LAST-MODIFIED:20200205T052325Z
UID:3600-1582365600-1582372800@www.topoi.net
SUMMARY:Logic and Set Theory
DESCRIPTION:Tweet
URL:https://www.topoi.net/event/logic-and-set-theory
END:VEVENT
BEGIN:VEVENT
DTSTART;TZID=UTC:20200215T100000
DTEND;TZID=UTC:20200215T120000
DTSTAMP:20260425T103802
CREATED:20200205T052121Z
LAST-MODIFIED:20200205T052121Z
UID:3597-1581760800-1581768000@www.topoi.net
SUMMARY:Oedipus Constructed (Finally)
DESCRIPTION:Tweet
URL:https://www.topoi.net/event/oedipus-constructed-finally
END:VEVENT
BEGIN:VEVENT
DTSTART;TZID=UTC:20200208T100000
DTEND;TZID=UTC:20200208T120000
DTSTAMP:20260425T103802
CREATED:20200205T052005Z
LAST-MODIFIED:20200205T052005Z
UID:3595-1581156000-1581163200@www.topoi.net
SUMMARY:Logic and Set Theory Cartel
DESCRIPTION:Tweet
URL:https://www.topoi.net/event/logic-and-set-theory-cartel
END:VEVENT
BEGIN:VEVENT
DTSTART;TZID=UTC:20200201T100000
DTEND;TZID=UTC:20200201T123000
DTSTAMP:20260425T103802
CREATED:20200111T021033Z
LAST-MODIFIED:20200124T041238Z
UID:3591-1580551200-1580560200@www.topoi.net
SUMMARY:First Seminar of 2020: Oedipus Constructed (Finally)
DESCRIPTION:The first seminar will introduce a retranslation of a crucial passage from Freud’s 1921 Massenpsychologie Und Ich–Analyse translated by Strachey as Group Psychology and the Ego. For those attending the seminar\, it is important to read Strachey’s translation\, Chpt. VII On Identification\, of Group Psychology and the Ego – taking special note of where Freud introduces the distinction between object-choice and identification in the formation of the Oedipus Complex.\n\nYou will find an introduction to my retranslation in the articles on Medium:\n\nTaking the ‘Psycho’ out of Psychoanalysis https://medium.com/@Simplicus/getting-the-psycho-out-of-psychoanalysis-737999fe7506\nOedipus Warped https://medium.com/@Simplicus/oedipus-warped-7adff3705f42\n\nThe third part of this three-part series will be distributed in the Seminar\, then a topological construction will be introduced to account for its development.\n\nRegards\,\n\nRTGroome\nTweet
URL:https://www.topoi.net/event/first-seminar-of-2020-oedipus-constructed-finally
END:VEVENT
BEGIN:VEVENT
DTSTART;TZID=UTC:20200118T100000
DTEND;TZID=UTC:20200118T123000
DTSTAMP:20260425T103802
CREATED:20191224T061645Z
LAST-MODIFIED:20191224T061645Z
UID:3582-1579341600-1579350600@www.topoi.net
SUMMARY:2020 Winter General Assembly
DESCRIPTION:Tweet
URL:https://www.topoi.net/event/2020-winter-general-assembly
END:VEVENT
BEGIN:VEVENT
DTSTART;TZID=UTC:20200104T100000
DTEND;TZID=UTC:20200104T120000
DTSTAMP:20260425T103802
CREATED:20191224T061333Z
LAST-MODIFIED:20191224T061333Z
UID:3580-1578132000-1578139200@www.topoi.net
SUMMARY:Make-up Logic Cartel
DESCRIPTION:Tweet
URL:https://www.topoi.net/event/make-up-logic-cartel
END:VEVENT
BEGIN:VEVENT
DTSTART;TZID=UTC:20191221T100000
DTEND;TZID=UTC:20191221T123000
DTSTAMP:20260425T103802
CREATED:20191130T095749Z
LAST-MODIFIED:20191130T095749Z
UID:3554-1576922400-1576931400@www.topoi.net
SUMMARY:Last Oedipus Seminar of the Semester
DESCRIPTION:Tweet
URL:https://www.topoi.net/event/last-oedipus-seminar-of-the-semester
END:VEVENT
BEGIN:VEVENT
DTSTART;TZID=UTC:20191214T100000
DTEND;TZID=UTC:20191214T123000
DTSTAMP:20260425T103802
CREATED:20191130T095552Z
LAST-MODIFIED:20191130T095615Z
UID:3552-1576317600-1576326600@www.topoi.net
SUMMARY:Logic Cartel
DESCRIPTION:Tweet
URL:https://www.topoi.net/event/logic-cartel-4
END:VEVENT
BEGIN:VEVENT
DTSTART;TZID=UTC:20191207T100000
DTEND;TZID=UTC:20191207T123000
DTSTAMP:20260425T103802
CREATED:20191130T095456Z
LAST-MODIFIED:20191130T095456Z
UID:3550-1575712800-1575721800@www.topoi.net
SUMMARY:Oedipus Seminar
DESCRIPTION:Tweet
URL:https://www.topoi.net/event/oedipus-seminar
END:VEVENT
BEGIN:VEVENT
DTSTART;TZID=UTC:20191130T100000
DTEND;TZID=UTC:20191130T120000
DTSTAMP:20260425T103802
CREATED:20191029T031810Z
LAST-MODIFIED:20191130T095323Z
UID:3506-1575108000-1575115200@www.topoi.net
SUMMARY:Logic Cartel/Cancellation/Next Meeting Dec. 14
DESCRIPTION:Tweet
URL:https://www.topoi.net/event/logic-cartel-3
END:VEVENT
BEGIN:VEVENT
DTSTART;TZID=UTC:20191123T100000
DTEND;TZID=UTC:20191123T123000
DTSTAMP:20260425T103802
CREATED:20191029T031726Z
LAST-MODIFIED:20191029T031726Z
UID:3504-1574503200-1574512200@www.topoi.net
SUMMARY:Constructing Oedipus Seminar
DESCRIPTION:Tweet
URL:https://www.topoi.net/event/constructing-oedipus-seminar-23
END:VEVENT
BEGIN:VEVENT
DTSTART;TZID=UTC:20191116T100000
DTEND;TZID=UTC:20191116T120000
DTSTAMP:20260425T103802
CREATED:20191029T031257Z
LAST-MODIFIED:20191029T031257Z
UID:3501-1573898400-1573905600@www.topoi.net
SUMMARY:Logic Cartel
DESCRIPTION:Tweet
URL:https://www.topoi.net/event/logic-cartel-2
END:VEVENT
BEGIN:VEVENT
DTSTART;TZID=UTC:20191109T100000
DTEND;TZID=UTC:20191109T133000
DTSTAMP:20260425T103802
CREATED:20191029T031135Z
LAST-MODIFIED:20191029T031135Z
UID:3498-1573293600-1573306200@www.topoi.net
SUMMARY:Fall 2019 Constructing Oedipus Seminar
DESCRIPTION:Tweet
URL:https://www.topoi.net/event/fall-2019-constructing-oedipus-seminar
END:VEVENT
BEGIN:VEVENT
DTSTART;TZID=UTC:20191102T100000
DTEND;TZID=UTC:20191102T120000
DTSTAMP:20260425T103802
CREATED:20191029T031028Z
LAST-MODIFIED:20191029T031028Z
UID:3496-1572688800-1572696000@www.topoi.net
SUMMARY:Fall 2019 Logic Cartel
DESCRIPTION:Tweet
URL:https://www.topoi.net/event/fall-2019-logic-cartel
END:VEVENT
BEGIN:VEVENT
DTSTART;TZID=UTC:20191026T100000
DTEND;TZID=UTC:20191026T123000
DTSTAMP:20260425T103802
CREATED:20191005T115254Z
LAST-MODIFIED:20191005T115254Z
UID:3493-1572084000-1572093000@www.topoi.net
SUMMARY:Seminar - Constructing Oedipus
DESCRIPTION:Tweet
URL:https://www.topoi.net/event/seminar-constructing-oedipus-4
END:VEVENT
BEGIN:VEVENT
DTSTART;TZID=UTC:20191019T100000
DTEND;TZID=UTC:20191019T123000
DTSTAMP:20260425T103802
CREATED:20191005T115145Z
LAST-MODIFIED:20191005T115145Z
UID:3491-1571479200-1571488200@www.topoi.net
SUMMARY:Logic Cartel
DESCRIPTION:Tweet
URL:https://www.topoi.net/event/logic-cartel
END:VEVENT
BEGIN:VEVENT
DTSTART;TZID=UTC:20191012T100000
DTEND;TZID=UTC:20191012T123000
DTSTAMP:20260425T103802
CREATED:20191005T115023Z
LAST-MODIFIED:20191005T115023Z
UID:3489-1570874400-1570883400@www.topoi.net
SUMMARY:Seminar - Constructing Oedipus
DESCRIPTION:Tweet
URL:https://www.topoi.net/event/seminar-constructing-oedipus-3
END:VEVENT
BEGIN:VEVENT
DTSTART;TZID=UTC:20190928T100000
DTEND;TZID=UTC:20190928T123000
DTSTAMP:20260425T103802
CREATED:20190904T020954Z
LAST-MODIFIED:20190904T020954Z
UID:3472-1569664800-1569673800@www.topoi.net
SUMMARY:First Fall 2019 Seminar: Constructing Oedipus
DESCRIPTION:The Fall  seminar\, Constructing Oedipus\, by T.R.\, Groome\, begins on the 28th of Sept. at 10:00am and continues on the second and last Saturdays of every month until the end of Dec. for the holiday break. T.R. Groome aka Simplicus has published an article on Medium entitled ‘Re-Thinking Race and Racism‘ This article will be used to introduce the Oedipus in an analysis of Race and Sex for the fall. People are also advised to keep working through Quine’s Methods of Logic\, especially the section on Predicate Logic. \n\nTweet
URL:https://www.topoi.net/event/first-fall-2019-seminar-constructing-oedipus
END:VEVENT
BEGIN:VEVENT
DTSTART;TZID=UTC:20190903T080000
DTEND;TZID=UTC:20190927T170000
DTSTAMP:20260425T103802
CREATED:20190904T020737Z
LAST-MODIFIED:20190904T020737Z
UID:3469-1567497600-1569603600@www.topoi.net
SUMMARY:Registration for Fall 2019 Semester Now Open
DESCRIPTION:1) Registration is open for the 2019 Fall Semester at PLACE – if you care to register and have not done so before\, please fill out an application (on the website of PLACE) and send it to the secretary. If you have already attended\, you only need send in the tuition ($850) full time or part time ($400) to confirm your place in the fall semester \n2) The Fall  seminar\, Constructing Oedipus\, by T.R.\, Groome\, begins on the 28th of Sept. at 10:00am and continues on the second and last Saturdays of every month until the end of Dec. for the holiday break. T.R. Groome aka Simplicus has published an article on Medium entitled ‘Re-Thinking Race and Racism‘ This article will be used to introduce the Oedipus in an analysis of Race and Sex for the fall. People are also advised to keep working through Quine’s Methods of Logic\, especially the section on Predicate Logic. \n3) The Cartel Vectorization is now open\, if you have registered at PLACE and intend to take a cartel at PLACE\, then write down three topics you care to work on and send it to the secretary at (PLACE@topoi.net). You will be notified at the end of this month on which subjects and cartels have formed. The first starting date for cartels is the first and second weeks of Oct. \nIf you have any questions\, please contact the administrators at this address. \nTweet
URL:https://www.topoi.net/event/registration-for-fall-2019-semester-now-open
END:VEVENT
BEGIN:VEVENT
DTSTART;TZID=UTC:20190817T100000
DTEND;TZID=UTC:20190817T130000
DTSTAMP:20260425T103802
CREATED:20190802T124743Z
LAST-MODIFIED:20190802T124743Z
UID:3461-1566036000-1566046800@www.topoi.net
SUMMARY:General Assembly
DESCRIPTION:The General Assembly is open to anyone who participated in the 2018-19 semester of PLACE. \nIt is scheduled to cover the following: \n\nCommunity Projects and Grants of PLACE\nVideo/Film in construction\nRules and Regulations Review\nNew Web Conferencing Proposals\nPublishing Papers and Conferences\n\nTweet
URL:https://www.topoi.net/event/general-assembly-3
END:VEVENT
END:VCALENDAR