BEGIN:VCALENDAR
VERSION:2.0
PRODID:-//Psychoanalysis Los Angeles California Extension - ECPv6.15.1.1//NONSGML v1.0//EN
CALSCALE:GREGORIAN
METHOD:PUBLISH
X-WR-CALNAME:Psychoanalysis Los Angeles California Extension
X-ORIGINAL-URL:https://www.topoi.net
X-WR-CALDESC:Events for Psychoanalysis Los Angeles California Extension
REFRESH-INTERVAL;VALUE=DURATION:PT1H
X-Robots-Tag:noindex
X-PUBLISHED-TTL:PT1H
BEGIN:VTIMEZONE
TZID:UTC
BEGIN:STANDARD
TZOFFSETFROM:+0000
TZOFFSETTO:+0000
TZNAME:UTC
DTSTART:20200101T000000
END:STANDARD
END:VTIMEZONE
BEGIN:VEVENT
DTSTART;TZID=UTC:20201226T080000
DTEND;TZID=UTC:20201226T170000
DTSTAMP:20260425T072516
CREATED:20201012T111912Z
LAST-MODIFIED:20201012T111912Z
UID:3686-1608969600-1609002000@www.topoi.net
SUMMARY:Winter Break
DESCRIPTION:Tweet
URL:https://www.topoi.net/event/winter-break
END:VEVENT
BEGIN:VEVENT
DTSTART;TZID=UTC:20201219T100000
DTEND;TZID=UTC:20201219T123000
DTSTAMP:20260425T072516
CREATED:20201012T111812Z
LAST-MODIFIED:20201012T111812Z
UID:3684-1608372000-1608381000@www.topoi.net
SUMMARY:Seminar: Repetition and Negation
DESCRIPTION:Tweet
URL:https://www.topoi.net/event/seminar-repetition-and-negation-5
END:VEVENT
BEGIN:VEVENT
DTSTART;TZID=UTC:20201216T193000
DTEND;TZID=UTC:20201216T210000
DTSTAMP:20260425T072516
CREATED:20201210T115002Z
LAST-MODIFIED:20201210T115002Z
UID:3690-1608147000-1608152400@www.topoi.net
SUMMARY:General Economy
DESCRIPTION:Tweet
URL:https://www.topoi.net/event/general-economy-2
END:VEVENT
BEGIN:VEVENT
DTSTART;TZID=UTC:20201212T100000
DTEND;TZID=UTC:20201212T120000
DTSTAMP:20260425T072516
CREATED:20201012T111724Z
LAST-MODIFIED:20201012T111724Z
UID:3682-1607767200-1607774400@www.topoi.net
SUMMARY:Cartel: Logic of Set Theory
DESCRIPTION:Tweet
URL:https://www.topoi.net/event/cartel-logic-of-set-theory-4
END:VEVENT
BEGIN:VEVENT
DTSTART;TZID=UTC:20201205T100000
DTEND;TZID=UTC:20201205T123000
DTSTAMP:20260425T072516
CREATED:20201012T111643Z
LAST-MODIFIED:20201012T111643Z
UID:3680-1607162400-1607171400@www.topoi.net
SUMMARY:Seminar: Repetition and Negation
DESCRIPTION:Tweet
URL:https://www.topoi.net/event/seminar-repetition-and-negation-4
END:VEVENT
BEGIN:VEVENT
DTSTART;TZID=UTC:20201128T100000
DTEND;TZID=UTC:20201128T120000
DTSTAMP:20260425T072516
CREATED:20201012T111549Z
LAST-MODIFIED:20201012T111549Z
UID:3678-1606557600-1606564800@www.topoi.net
SUMMARY:Cartel: Logic of Set Theory
DESCRIPTION:Tweet
URL:https://www.topoi.net/event/cartel-logic-of-set-theory-3
END:VEVENT
BEGIN:VEVENT
DTSTART;TZID=UTC:20201121T080000
DTEND;TZID=UTC:20201121T123000
DTSTAMP:20260425T072516
CREATED:20201012T111334Z
LAST-MODIFIED:20201012T111334Z
UID:3674-1605945600-1605961800@www.topoi.net
SUMMARY:Seminar: Repetition and Negation
DESCRIPTION:Tweet
URL:https://www.topoi.net/event/seminar-repetition-and-negation-3
END:VEVENT
BEGIN:VEVENT
DTSTART;TZID=UTC:20201114T100000
DTEND;TZID=UTC:20201114T120000
DTSTAMP:20260425T072516
CREATED:20201012T111445Z
LAST-MODIFIED:20201012T111445Z
UID:3676-1605348000-1605355200@www.topoi.net
SUMMARY:Cartel: Logic of Set Theory
DESCRIPTION:Tweet
URL:https://www.topoi.net/event/cartel-logic-of-set-theory-2
END:VEVENT
BEGIN:VEVENT
DTSTART;TZID=UTC:20201107T100000
DTEND;TZID=UTC:20201107T123000
DTSTAMP:20260425T072516
CREATED:20201012T111219Z
LAST-MODIFIED:20201012T111219Z
UID:3672-1604743200-1604752200@www.topoi.net
SUMMARY:Seminar: Repetition and Negation
DESCRIPTION:Tweet
URL:https://www.topoi.net/event/seminar-repetition-and-negation-2
END:VEVENT
BEGIN:VEVENT
DTSTART;TZID=UTC:20201031T100000
DTEND;TZID=UTC:20201031T120000
DTSTAMP:20260425T072516
CREATED:20201012T111022Z
LAST-MODIFIED:20201012T111022Z
UID:3669-1604138400-1604145600@www.topoi.net
SUMMARY:Cartel: Logic of Set Theory
DESCRIPTION:Tweet
URL:https://www.topoi.net/event/cartel-logic-of-set-theory
END:VEVENT
BEGIN:VEVENT
DTSTART;TZID=UTC:20201024T100000
DTEND;TZID=UTC:20201024T123000
DTSTAMP:20260425T072516
CREATED:20201012T110917Z
LAST-MODIFIED:20201012T110917Z
UID:3667-1603533600-1603542600@www.topoi.net
SUMMARY:Seminar: Repetition and Negation
DESCRIPTION:Tweet
URL:https://www.topoi.net/event/seminar-repetition-and-negation
END:VEVENT
BEGIN:VEVENT
DTSTART;TZID=UTC:20201017T100000
DTEND;TZID=UTC:20201017T120000
DTSTAMP:20260425T072516
CREATED:20201012T110808Z
LAST-MODIFIED:20201012T110808Z
UID:3665-1602928800-1602936000@www.topoi.net
SUMMARY:Cartel- the Logic of Set theory/ Knowledge-Science-Truth
DESCRIPTION:Tweet
URL:https://www.topoi.net/event/cartel-the-logic-of-set-theory-knowledge-science-truth
END:VEVENT
BEGIN:VEVENT
DTSTART;TZID=UTC:20200926T100000
DTEND;TZID=UTC:20200926T123000
DTSTAMP:20260425T072516
CREATED:20200907T093330Z
LAST-MODIFIED:20200907T093808Z
UID:3648-1601114400-1601123400@www.topoi.net
SUMMARY:First Fall Seminar: Repetition and Negation (Part I)
DESCRIPTION:See: https://www.topoi.net/fall-2020-seminar-repetition-and-negation.html \nTweet
URL:https://www.topoi.net/event/first-fall-seminar-repetition-and-negation-part-i
ATTACH;FMTTYPE=image/gif:https://www.topoi.net/wp-content/uploads/2020/09/desarg-e1748885630372.gif
END:VEVENT
BEGIN:VEVENT
DTSTART;VALUE=DATE:20200919
DTEND;VALUE=DATE:20200920
DTSTAMP:20260425T072516
CREATED:20200907T094836Z
LAST-MODIFIED:20200907T095052Z
UID:3651-1600473600-1600559999@www.topoi.net
SUMMARY:Cartel Vectorization Opens
DESCRIPTION:The cartels (small workgroups) are scheduled to begin the first week of October. The number of cartels scheduled depends both on the number of people inscribed during the semester and the number of common topics that people would like to work on. \nIf you have already participated in a cartel\, please send your 3 topics to the secretary at PLACE@topoi.net \nIf you have not yet participated in a cartel\, then choose 3 topics you would like to work on with others during the Fall semester. On the reception of your topics\, you will be contacted shortly by email to indicate whether any of your topics intersected with others participating in the 2020 Fall Semester. If there are no intersections\, and you still care to participate\, you will be given a list of the nearest matches so you can determine whether you are interested in participating in the Fall 2020 cartels or not. \nIf you have matched with others\, at this time you will also be asked to give some times that you can meet for 2 hrs. either during the week or weekend.  The cartels usually have a small number of participants – from 4 to 6 people per cartel. \nIt is important to send in your topics in a timely manner since the cartels cannot start until all the topics are in. \nIf there are any questions\, please address the secretary at the PLACE email above. \n  \nTweet
URL:https://www.topoi.net/event/cartel-vectorization-opens
END:VEVENT
BEGIN:VEVENT
DTSTART;VALUE=DATE:20200909
DTEND;VALUE=DATE:20200910
DTSTAMP:20260425T072516
CREATED:20200907T095220Z
LAST-MODIFIED:20200907T095220Z
UID:3653-1599609600-1599695999@www.topoi.net
SUMMARY:Fall 2020 PLACE Registration Open
DESCRIPTION:Tweet
URL:https://www.topoi.net/event/fall-2020-place-registration-open
END:VEVENT
BEGIN:VEVENT
DTSTART;TZID=UTC:20200808T080000
DTEND;TZID=UTC:20200808T170000
DTSTAMP:20260425T072516
CREATED:20200617T055310Z
LAST-MODIFIED:20200804T020354Z
UID:3639-1596873600-1596906000@www.topoi.net
SUMMARY:Last Summer 2020 Immersion
DESCRIPTION:Tweet
URL:https://www.topoi.net/event/summer-vacation-begins
END:VEVENT
BEGIN:VEVENT
DTSTART;TZID=UTC:20200711T100000
DTEND;TZID=UTC:20200711T133000
DTSTAMP:20260425T072516
CREATED:20200617T054903Z
LAST-MODIFIED:20200617T055018Z
UID:3635-1594461600-1594474200@www.topoi.net
SUMMARY:BEGINNING - Summer Immersion 2020-LOGIC\,SET\, & TOPOLOGY-CATEGORY
DESCRIPTION:Tweet
URL:https://www.topoi.net/event/begins-today-summer-immersion-2020-logicset-topology-category
ATTACH;FMTTYPE=image/jpeg:https://www.topoi.net/wp-content/uploads/2020/06/IMG_1539.jpeg
END:VEVENT
BEGIN:VEVENT
DTSTART;TZID=UTC:20200616T080000
DTEND;TZID=UTC:20200710T170000
DTSTAMP:20260425T072516
CREATED:20200617T054221Z
LAST-MODIFIED:20200617T054708Z
UID:3630-1592294400-1594400400@www.topoi.net
SUMMARY:Registration for Summer Immersion: Logic\, Set\, & Topology-Category
DESCRIPTION:The 2020 Summer Immersion will begin Saturday\, July 11th at 10:00am (till 1:30pm) on Euclid (distance participation is available by Skype). The course will continue till Aug. 1st. There may also be some Sundays that will be included depending on the development of the course. In all we are planning on 5-6 courses: four Saturdays + one or two Sundays.  The Instructor is R.T.Groome.\n\nThe course will be recorded on Skype for those who are unable to attend on certain dates. The tuition for the Immersion is $450.\n\nDescription of Course: LOGIC\, SET\, & CATEGORY-TOPOLOGY\n\nFirst of all\, the Summer Immersion is neither a seminar nor a cartel\, but a course: it is directed towards the instruction of what is habitually called a ‘technique’\, but we simply\ncall a procedure of writing. The course assumes no previous background\, only a certain perseverance with regard to the material.\n\nSecond\, the material to be covered – logic\, set\, and category-topology – will be presented in concern for those woking in the field of analysis who would like to both arrive at a more precise articulation of their work and develop a reading of Lacan that does not fall back into metaphor and commentary.\n\nThird\, a book by Peter Cameron entitled\, Sets\, Logic\, and Categories\, (see PDF below) will be used as a reference for the course. Though not as detailed as Hillel and Frankel’s Foundations of Set Theory\, it is more expansive and a much more up to date and readable book. The book can also serve to establish a minimal basis to the languages necessary for entering into a work of structure in the manner of Lacan. This much said\, the book will be approached critically as there are many assumptions that\, once deconstructed\, can become useful to showing what is at stake in reading a technical work in the field of analysis.\n\n\nFourth\, if you have not participated in a previous cartel on Logic\, Sets\, or Categories-Topology\, you can already begin to get into the wind by beginning to work through this text before the Summer Immersion\nbegins on July 11th. In particular\, I would work through Chpt.1\, Naive Set Theory\, and Chpt. 3 Logic (propositional) and Chpt\,. 4 First Order Logic ( predicate). The first meeting of the Summer Immersion will\naddress any questions with regard to Naive Set Theory\, Propositional Logic\, or First Order Logic.\n\nFifth\, if you have already participated in a previous cartel on Logic\, Sets\, or Categories-Topology\, then you could confirm your knowledge by reading through Chpt.1\,3\, and 4\, then turn to Chpts. 5 and 6\, respectively\, Model Theory and Axiomatic Set Theory.\n\nLastly\, my goal is to show how a model of set theory can be constructed through the use of Venn diagrams\, then how such diagrams translate quite naturally into topological and categorical diagrams as graphs and knots. In order to show how this translation between languages-theories-diagrams is crucial to a reading of Lacanian analysis\, I will also pass out an unpublished paper on the logic of the Mobius band that brings together both Algebra (Boolean and Group)\, Logic\, and Knot Theory.\n\nIf you are planning on attending the course\, please contact the secretary at PLACE@topoi.net to reserve a place soon. The attendance of the Immersion is limited to 10 people. If you have already registered for the course\, you will be notified shortly.\n\n\n\nTweet
URL:https://www.topoi.net/event/registration-for-summer-immersion-logic-set-topology-category
ATTACH;FMTTYPE=image/jpeg:https://www.topoi.net/wp-content/uploads/2020/06/IMG_1539.jpeg
END:VEVENT
BEGIN:VEVENT
DTSTART;TZID=UTC:20200606T100000
DTEND;TZID=UTC:20200606T123000
DTSTAMP:20260425T072516
CREATED:20200513T074012Z
LAST-MODIFIED:20200513T074109Z
UID:3628-1591437600-1591446600@www.topoi.net
SUMMARY:Constructing Oedipus
DESCRIPTION:Tweet
URL:https://www.topoi.net/event/constructing-oedipus-9
END:VEVENT
BEGIN:VEVENT
DTSTART;TZID=UTC:20200530T100000
DTEND;TZID=UTC:20200530T120000
DTSTAMP:20260425T072516
CREATED:20200513T073920Z
LAST-MODIFIED:20200513T073920Z
UID:3626-1590832800-1590840000@www.topoi.net
SUMMARY:Logic Set Theory Cartel
DESCRIPTION:Tweet
URL:https://www.topoi.net/event/logic-set-theory-cartel-4
END:VEVENT
BEGIN:VEVENT
DTSTART;TZID=UTC:20200523T100000
DTEND;TZID=UTC:20200523T123000
DTSTAMP:20260425T072516
CREATED:20200513T073826Z
LAST-MODIFIED:20200513T073826Z
UID:3624-1590228000-1590237000@www.topoi.net
SUMMARY:Constructing Oedipus
DESCRIPTION:Tweet
URL:https://www.topoi.net/event/constructing-oedipus-8
END:VEVENT
BEGIN:VEVENT
DTSTART;TZID=UTC:20200516T100000
DTEND;TZID=UTC:20200516T120000
DTSTAMP:20260425T072516
CREATED:20200513T072938Z
LAST-MODIFIED:20200513T072938Z
UID:3622-1589623200-1589630400@www.topoi.net
SUMMARY:Logic-Set theory cartel
DESCRIPTION:Tweet
URL:https://www.topoi.net/event/logic-set-theory-cartel-3
END:VEVENT
BEGIN:VEVENT
DTSTART;TZID=UTC:20200425T100000
DTEND;TZID=UTC:20200425T123000
DTSTAMP:20260425T072516
CREATED:20200325T132322Z
LAST-MODIFIED:20200325T132322Z
UID:3620-1587808800-1587817800@www.topoi.net
SUMMARY:Oedipus Constructed (finally)
DESCRIPTION:Tweet
URL:https://www.topoi.net/event/oedipus-constructed-finally-4
END:VEVENT
BEGIN:VEVENT
DTSTART;TZID=UTC:20200418T100000
DTEND;TZID=UTC:20200418T123000
DTSTAMP:20260425T072516
CREATED:20200325T132150Z
LAST-MODIFIED:20200325T132150Z
UID:3618-1587204000-1587213000@www.topoi.net
SUMMARY:Logic-Set theory Cartel
DESCRIPTION:Tweet
URL:https://www.topoi.net/event/logic-set-theory-cartel-2
END:VEVENT
BEGIN:VEVENT
DTSTART;TZID=UTC:20200411T100000
DTEND;TZID=UTC:20200411T123000
DTSTAMP:20260425T072516
CREATED:20200325T132036Z
LAST-MODIFIED:20200325T132036Z
UID:3616-1586599200-1586608200@www.topoi.net
SUMMARY:Oedipus Constructed (finally)
DESCRIPTION:Tweet
URL:https://www.topoi.net/event/oedipus-constructed-finally-3
END:VEVENT
BEGIN:VEVENT
DTSTART;TZID=UTC:20200404T100000
DTEND;TZID=UTC:20200404T123000
DTSTAMP:20260425T072516
CREATED:20200325T131929Z
LAST-MODIFIED:20200325T131929Z
UID:3614-1585994400-1586003400@www.topoi.net
SUMMARY:Logic-Set Theory Cartel
DESCRIPTION:Tweet
URL:https://www.topoi.net/event/logic-set-theory-cartel
END:VEVENT
BEGIN:VEVENT
DTSTART;TZID=UTC:20200328T100000
DTEND;TZID=UTC:20200328T123000
DTSTAMP:20260425T072516
CREATED:20200325T131826Z
LAST-MODIFIED:20200325T131826Z
UID:3612-1585389600-1585398600@www.topoi.net
SUMMARY:Constructing Oedipus (finally)
DESCRIPTION:Tweet
URL:https://www.topoi.net/event/constructing-oedipus-finally-2
END:VEVENT
BEGIN:VEVENT
DTSTART;TZID=UTC:20200314T100000
DTEND;TZID=UTC:20200314T120000
DTSTAMP:20260425T072516
CREATED:20200205T054822Z
LAST-MODIFIED:20200205T054822Z
UID:3604-1584180000-1584187200@www.topoi.net
SUMMARY:Constructing Oedipus (finally)
DESCRIPTION:Tweet
URL:https://www.topoi.net/event/constructing-oedipus-finally
END:VEVENT
BEGIN:VEVENT
DTSTART;TZID=UTC:20200307T100000
DTEND;TZID=UTC:20200307T120000
DTSTAMP:20260425T072516
CREATED:20200205T054912Z
LAST-MODIFIED:20200205T054912Z
UID:3606-1583575200-1583582400@www.topoi.net
SUMMARY:Logic and Set Theory
DESCRIPTION:Tweet
URL:https://www.topoi.net/event/logic-and-set-theory-2
END:VEVENT
BEGIN:VEVENT
DTSTART;TZID=UTC:20200229T100000
DTEND;TZID=UTC:20200229T120000
DTSTAMP:20260425T072516
CREATED:20200205T052421Z
LAST-MODIFIED:20200205T052421Z
UID:3602-1582970400-1582977600@www.topoi.net
SUMMARY:Oedipus Constructed (Finally)
DESCRIPTION:Tweet
URL:https://www.topoi.net/event/oedipus-constructed-finally-2
END:VEVENT
END:VCALENDAR