BEGIN:VCALENDAR
VERSION:2.0
PRODID:-//Psychoanalysis Los Angeles California Extension - ECPv6.15.1.1//NONSGML v1.0//EN
CALSCALE:GREGORIAN
METHOD:PUBLISH
X-WR-CALNAME:Psychoanalysis Los Angeles California Extension
X-ORIGINAL-URL:https://www.topoi.net
X-WR-CALDESC:Events for Psychoanalysis Los Angeles California Extension
REFRESH-INTERVAL;VALUE=DURATION:PT1H
X-Robots-Tag:noindex
X-PUBLISHED-TTL:PT1H
BEGIN:VTIMEZONE
TZID:UTC
BEGIN:STANDARD
TZOFFSETFROM:+0000
TZOFFSETTO:+0000
TZNAME:UTC
DTSTART:20210101T000000
END:STANDARD
END:VTIMEZONE
BEGIN:VEVENT
DTSTART;TZID=UTC:20220129T100000
DTEND;TZID=UTC:20220129T123000
DTSTAMP:20260425T074113
CREATED:20220128T070810Z
LAST-MODIFIED:20220128T070810Z
UID:3853-1643450400-1643459400@www.topoi.net
SUMMARY:Repetition and Negation
DESCRIPTION:The first Winter-Spring 2022 Seminar Repetition and Negation begins Jan. 29th at 10:00 am PST and finishes at 12:30 pm. This seminar is produced by Robert – Scully Groome and will begin where the previous Fall 2021 semester left off in December. \nAny questions on attendance should be addressed to the Administrators at: PLACE@topoi.net \nTweet
URL:https://www.topoi.net/event/repetition-and-negation
END:VEVENT
BEGIN:VEVENT
DTSTART;TZID=UTC:20211218T080000
DTEND;TZID=UTC:20211218T170000
DTSTAMP:20260425T074113
CREATED:20210928T024058Z
LAST-MODIFIED:20210928T024124Z
UID:3798-1639814400-1639846800@www.topoi.net
SUMMARY:Repetition-Negation Seminar
DESCRIPTION:Tweet
URL:https://www.topoi.net/event/repetition-negation-seminar-10
END:VEVENT
BEGIN:VEVENT
DTSTART;TZID=UTC:20211211T100000
DTEND;TZID=UTC:20211211T120000
DTSTAMP:20260425T074113
CREATED:20211111T120623Z
LAST-MODIFIED:20211111T120623Z
UID:3822-1639216800-1639224000@www.topoi.net
SUMMARY:Logic-Set-Knot
DESCRIPTION:Tweet
URL:https://www.topoi.net/event/logic-set-knot-3
END:VEVENT
BEGIN:VEVENT
DTSTART;TZID=UTC:20211204T080000
DTEND;TZID=UTC:20211204T170000
DTSTAMP:20260425T074113
CREATED:20210928T024042Z
LAST-MODIFIED:20210928T024042Z
UID:3796-1638604800-1638637200@www.topoi.net
SUMMARY:Repetition-Negation Seminar
DESCRIPTION:Tweet
URL:https://www.topoi.net/event/repetition-negation-seminar-9
END:VEVENT
BEGIN:VEVENT
DTSTART;TZID=UTC:20211127T100000
DTEND;TZID=UTC:20211127T120000
DTSTAMP:20260425T074113
CREATED:20211111T120418Z
LAST-MODIFIED:20211111T120519Z
UID:3820-1638007200-1638014400@www.topoi.net
SUMMARY:Logic-Set-Knot
DESCRIPTION:Tweet
URL:https://www.topoi.net/event/logic-set-knot-2
END:VEVENT
BEGIN:VEVENT
DTSTART;TZID=UTC:20211120T080000
DTEND;TZID=UTC:20211120T170000
DTSTAMP:20260425T074113
CREATED:20210928T024000Z
LAST-MODIFIED:20210928T024000Z
UID:3794-1637395200-1637427600@www.topoi.net
SUMMARY:Repetition-Negation Seminar
DESCRIPTION:Tweet
URL:https://www.topoi.net/event/repetition-negation-seminar-8
END:VEVENT
BEGIN:VEVENT
DTSTART;TZID=UTC:20211113T100000
DTEND;TZID=UTC:20211113T130000
DTSTAMP:20260425T074113
CREATED:20211111T120300Z
LAST-MODIFIED:20211111T120300Z
UID:3818-1636797600-1636808400@www.topoi.net
SUMMARY:Logic-Set-Knot
DESCRIPTION:Tweet
URL:https://www.topoi.net/event/logic-set-knot
END:VEVENT
BEGIN:VEVENT
DTSTART;TZID=UTC:20211106T100000
DTEND;TZID=UTC:20211106T123000
DTSTAMP:20260425T074113
CREATED:20210928T023927Z
LAST-MODIFIED:20211007T224332Z
UID:3792-1636192800-1636201800@www.topoi.net
SUMMARY:Repetition-Negation Seminar
DESCRIPTION:Tweet
URL:https://www.topoi.net/event/repetition-negation-seminar-7
END:VEVENT
BEGIN:VEVENT
DTSTART;TZID=UTC:20211031T100000
DTEND;TZID=UTC:20211031T123000
DTSTAMP:20260425T074113
CREATED:20211020T020542Z
LAST-MODIFIED:20211020T020542Z
UID:3816-1635674400-1635683400@www.topoi.net
SUMMARY:Set-Logic-Knot Cartel
DESCRIPTION:Tweet
URL:https://www.topoi.net/event/set-logic-knot-cartel
END:VEVENT
BEGIN:VEVENT
DTSTART;TZID=UTC:20211030T100000
DTEND;TZID=UTC:20211030T123000
DTSTAMP:20260425T074113
CREATED:20211007T223348Z
LAST-MODIFIED:20211007T223946Z
UID:3803-1635588000-1635597000@www.topoi.net
SUMMARY:The Case of Gegensinn
DESCRIPTION:Tweet
URL:https://www.topoi.net/event/the-case-of-gegensinn-3
END:VEVENT
BEGIN:VEVENT
DTSTART;TZID=UTC:20211023T100000
DTEND;TZID=UTC:20211023T123000
DTSTAMP:20260425T074113
CREATED:20210928T023856Z
LAST-MODIFIED:20211007T223125Z
UID:3790-1634983200-1634992200@www.topoi.net
SUMMARY:Repetition-Negation Seminar
DESCRIPTION:Tweet
URL:https://www.topoi.net/event/repetition-negation-seminar-6
END:VEVENT
BEGIN:VEVENT
DTSTART;TZID=UTC:20211016T100000
DTEND;TZID=UTC:20211016T123000
DTSTAMP:20260425T074113
CREATED:20211007T223228Z
LAST-MODIFIED:20211007T223255Z
UID:3801-1634378400-1634387400@www.topoi.net
SUMMARY:The Case of Gegensinn
DESCRIPTION:Tweet
URL:https://www.topoi.net/event/the-case-of-gegensinn-2
END:VEVENT
BEGIN:VEVENT
DTSTART;TZID=UTC:20211009T100000
DTEND;TZID=UTC:20211009T123000
DTSTAMP:20260425T074113
CREATED:20210928T023821Z
LAST-MODIFIED:20211007T224229Z
UID:3788-1633773600-1633782600@www.topoi.net
SUMMARY:Repetition-Negation Seminar
DESCRIPTION:Tweet
URL:https://www.topoi.net/event/repetition-negation-seminar-5
END:VEVENT
BEGIN:VEVENT
DTSTART;TZID=UTC:20211002T100000
DTEND;TZID=UTC:20211002T123000
DTSTAMP:20260425T074113
CREATED:20210902T103950Z
LAST-MODIFIED:20210902T103950Z
UID:3783-1633168800-1633177800@www.topoi.net
SUMMARY:The Case of Gegensinn
DESCRIPTION:Tweet
URL:https://www.topoi.net/event/the-case-of-gegensinn
END:VEVENT
BEGIN:VEVENT
DTSTART;TZID=UTC:20210925T100000
DTEND;TZID=UTC:20210925T123000
DTSTAMP:20260425T074113
CREATED:20210809T020131Z
LAST-MODIFIED:20210809T020131Z
UID:3776-1632564000-1632573000@www.topoi.net
SUMMARY:First Seminar of Fall 2021 - Repetition & Negation Part II
DESCRIPTION:Tweet
URL:https://www.topoi.net/event/first-seminar-of-fall-2021-repetition-negation-part-ii
END:VEVENT
BEGIN:VEVENT
DTSTART;TZID=UTC:20210922T080000
DTEND;TZID=UTC:20210922T170000
DTSTAMP:20260425T074113
CREATED:20210902T103713Z
LAST-MODIFIED:20210902T103713Z
UID:3781-1632297600-1632330000@www.topoi.net
SUMMARY:Registration Closed for 2021 Fall Semester
DESCRIPTION:Late registration will be permitted up to the 2nd of Oct. \nTweet
URL:https://www.topoi.net/event/registration-closed-for-2021-fall-semester
END:VEVENT
BEGIN:VEVENT
DTSTART;TZID=UTC:20210911T100000
DTEND;TZID=UTC:20210911T130000
DTSTAMP:20260425T074113
CREATED:20210809T015303Z
LAST-MODIFIED:20210809T015303Z
UID:3774-1631354400-1631365200@www.topoi.net
SUMMARY:Fall 2021 General Assembly
DESCRIPTION:Gathers bi-yearly to regulate interior and exterior politics-administration-topology of PLACE. \nTweet
URL:https://www.topoi.net/event/fall-2021-general-assembly
END:VEVENT
BEGIN:VEVENT
DTSTART;TZID=UTC:20210902T080000
DTEND;TZID=UTC:20210902T170000
DTSTAMP:20260425T074113
CREATED:20210902T103540Z
LAST-MODIFIED:20210902T103540Z
UID:3779-1630569600-1630602000@www.topoi.net
SUMMARY:Registration Open for Fall 2021 Semester
DESCRIPTION:Registration is now open for the 2021 Schlinic of PLACE. Please contact the administrators for information. \nTweet
URL:https://www.topoi.net/event/registration-open-for-fall-2021-semester
END:VEVENT
BEGIN:VEVENT
DTSTART;TZID=UTC:20210807T100000
DTEND;TZID=UTC:20210807T130000
DTSTAMP:20260425T074113
CREATED:20210805T024827Z
LAST-MODIFIED:20210805T024827Z
UID:3772-1628330400-1628341200@www.topoi.net
SUMMARY:Last Course of the 2021 Summer Immersion
DESCRIPTION:Tweet
URL:https://www.topoi.net/event/last-course-of-the-2021-summer-immersion
END:VEVENT
BEGIN:VEVENT
DTSTART;TZID=UTC:20210731T100000
DTEND;TZID=UTC:20210731T130000
DTSTAMP:20260425T074113
CREATED:20210723T111358Z
LAST-MODIFIED:20210723T111358Z
UID:3766-1627725600-1627736400@www.topoi.net
SUMMARY:Summer Immersion - Knot Theory
DESCRIPTION:Tweet
URL:https://www.topoi.net/event/summer-immersion-knot-theory-3
END:VEVENT
BEGIN:VEVENT
DTSTART;TZID=UTC:20210724T080000
DTEND;TZID=UTC:20210724T130000
DTSTAMP:20260425T074113
CREATED:20210723T111244Z
LAST-MODIFIED:20210723T111244Z
UID:3764-1627113600-1627131600@www.topoi.net
SUMMARY:Summer Immersion - Knot Theory
DESCRIPTION:Tweet
URL:https://www.topoi.net/event/summer-immersion-knot-theory-2
END:VEVENT
BEGIN:VEVENT
DTSTART;TZID=UTC:20210717T100000
DTEND;TZID=UTC:20210717T130000
DTSTAMP:20260425T074113
CREATED:20210723T110944Z
LAST-MODIFIED:20210723T110944Z
UID:3761-1626516000-1626526800@www.topoi.net
SUMMARY:Summer Immersion -Knot Theory
DESCRIPTION:Tweet
URL:https://www.topoi.net/event/summer-immersion-knot-theory
END:VEVENT
BEGIN:VEVENT
DTSTART;TZID=UTC:20210710T100000
DTEND;TZID=UTC:20210710T130000
DTSTAMP:20260425T074113
CREATED:20210608T011148Z
LAST-MODIFIED:20210608T011148Z
UID:3759-1625911200-1625922000@www.topoi.net
SUMMARY:Summer Immersion: Introduction to Knot Theory
DESCRIPTION:Course begins July 10th and finishes August 7\, 2021. \nTweet
URL:https://www.topoi.net/event/summer-immersion-introduction-to-knot-theory
END:VEVENT
BEGIN:VEVENT
DTSTART;TZID=UTC:20210605T100000
DTEND;TZID=UTC:20210605T123000
DTSTAMP:20260425T074113
CREATED:20210519T114624Z
LAST-MODIFIED:20210519T114624Z
UID:3757-1622887200-1622896200@www.topoi.net
SUMMARY:Semester Final Repetition-Negation
DESCRIPTION:Tweet
URL:https://www.topoi.net/event/semester-final-repetition-negation
END:VEVENT
BEGIN:VEVENT
DTSTART;TZID=UTC:20210529T100000
DTEND;TZID=UTC:20210529T120000
DTSTAMP:20260425T074113
CREATED:20210519T114436Z
LAST-MODIFIED:20210519T114436Z
UID:3754-1622282400-1622289600@www.topoi.net
SUMMARY:Set-Logic-Truth Cartel
DESCRIPTION:Tweet
URL:https://www.topoi.net/event/set-logic-truth-cartel
END:VEVENT
BEGIN:VEVENT
DTSTART;TZID=UTC:20210522T100000
DTEND;TZID=UTC:20210522T120000
DTSTAMP:20260425T074113
CREATED:20210519T114347Z
LAST-MODIFIED:20210519T114347Z
UID:3752-1621677600-1621684800@www.topoi.net
SUMMARY:Repetition - Negation Seminar
DESCRIPTION:Tweet
URL:https://www.topoi.net/event/repetition-negation-seminar-4
END:VEVENT
BEGIN:VEVENT
DTSTART;TZID=UTC:20210519T193000
DTEND;TZID=UTC:20210519T210000
DTSTAMP:20260425T074113
CREATED:20210519T114200Z
LAST-MODIFIED:20210519T114200Z
UID:3750-1621452600-1621458000@www.topoi.net
SUMMARY:Generalized Economy Cartel
DESCRIPTION:Tweet
URL:https://www.topoi.net/event/generalized-economy-cartel-13
END:VEVENT
BEGIN:VEVENT
DTSTART;TZID=UTC:20210327T100000
DTEND;TZID=UTC:20210327T123000
DTSTAMP:20260425T074113
CREATED:20210304T060319Z
LAST-MODIFIED:20210304T060319Z
UID:3743-1616839200-1616848200@www.topoi.net
SUMMARY:Repetition-Negation Seminar
DESCRIPTION:Tweet
URL:https://www.topoi.net/event/repetition-negation-seminar-3
END:VEVENT
BEGIN:VEVENT
DTSTART;TZID=UTC:20210320T100000
DTEND;TZID=UTC:20210320T120000
DTSTAMP:20260425T074113
CREATED:20210304T060217Z
LAST-MODIFIED:20210304T060217Z
UID:3741-1616234400-1616241600@www.topoi.net
SUMMARY:Logic-Set Truth Cartel
DESCRIPTION:Tweet
URL:https://www.topoi.net/event/logic-set-truth-cartel-2
END:VEVENT
BEGIN:VEVENT
DTSTART;TZID=UTC:20210313T100000
DTEND;TZID=UTC:20210313T123000
DTSTAMP:20260425T074113
CREATED:20210304T055833Z
LAST-MODIFIED:20210304T055833Z
UID:3737-1615629600-1615638600@www.topoi.net
SUMMARY:Repetition-Negation Seminar
DESCRIPTION:Tweet
URL:https://www.topoi.net/event/repetition-negation-seminar-2
END:VEVENT
END:VCALENDAR