BEGIN:VCALENDAR
VERSION:2.0
PRODID:-//Psychoanalysis Los Angeles California Extension - ECPv6.15.1.1//NONSGML v1.0//EN
CALSCALE:GREGORIAN
METHOD:PUBLISH
X-WR-CALNAME:Psychoanalysis Los Angeles California Extension
X-ORIGINAL-URL:https://www.topoi.net
X-WR-CALDESC:Events for Psychoanalysis Los Angeles California Extension
REFRESH-INTERVAL;VALUE=DURATION:PT1H
X-Robots-Tag:noindex
X-PUBLISHED-TTL:PT1H
BEGIN:VTIMEZONE
TZID:America/Los_Angeles
BEGIN:DAYLIGHT
TZOFFSETFROM:-0800
TZOFFSETTO:-0700
TZNAME:PDT
DTSTART:20260308T100000
END:DAYLIGHT
BEGIN:STANDARD
TZOFFSETFROM:-0700
TZOFFSETTO:-0800
TZNAME:PST
DTSTART:20261101T090000
END:STANDARD
END:VTIMEZONE
BEGIN:VEVENT
DTSTART;TZID=America/Los_Angeles:20260207T100000
DTEND;TZID=America/Los_Angeles:20260207T123000
DTSTAMP:20260424T170438
CREATED:20260131T015756Z
LAST-MODIFIED:20260131T015756Z
UID:4396-1770458400-1770467400@www.topoi.net
SUMMARY:First Cartel of the 2026 Semester: Algebra\, Logic\, Geometry
DESCRIPTION:Tweet
URL:https://www.topoi.net/event/first-cartel-of-the-2026-semester-algebra-logic-geometry
END:VEVENT
BEGIN:VEVENT
DTSTART;TZID=America/Los_Angeles:20260214T100000
DTEND;TZID=America/Los_Angeles:20260214T123000
DTSTAMP:20260424T170438
CREATED:20260131T020106Z
LAST-MODIFIED:20260131T020106Z
UID:4398-1771063200-1771072200@www.topoi.net
SUMMARY:Envisaging the Invisible => Temporalizing Space – With Guest Speaker Elliot Wolfson
DESCRIPTION:Tweet
URL:https://www.topoi.net/event/envisaging-the-invisible-temporalizing-space-with-guest-speaker-elliot-wolfson
END:VEVENT
BEGIN:VEVENT
DTSTART;TZID=America/Los_Angeles:20260221T100000
DTEND;TZID=America/Los_Angeles:20260221T120000
DTSTAMP:20260424T170438
CREATED:20260131T020426Z
LAST-MODIFIED:20260131T020426Z
UID:4400-1771668000-1771675200@www.topoi.net
SUMMARY:Algebra\, Logic\, Geometry
DESCRIPTION:Tweet
URL:https://www.topoi.net/event/algebra-logic-geometry
END:VEVENT
BEGIN:VEVENT
DTSTART;TZID=America/Los_Angeles:20260228T100000
DTEND;TZID=America/Los_Angeles:20260228T123000
DTSTAMP:20260424T170438
CREATED:20260131T020642Z
LAST-MODIFIED:20260131T020642Z
UID:4402-1772272800-1772281800@www.topoi.net
SUMMARY:Seminar: Peril of Structure
DESCRIPTION:Tweet
URL:https://www.topoi.net/event/seminar-peril-of-structure-5
END:VEVENT
BEGIN:VEVENT
DTSTART;TZID=America/Los_Angeles:20260307T100000
DTEND;TZID=America/Los_Angeles:20260307T120000
DTSTAMP:20260424T170438
CREATED:20260131T021038Z
LAST-MODIFIED:20260131T021038Z
UID:4404-1772877600-1772884800@www.topoi.net
SUMMARY:Algebra\, Logic\, Geometry
DESCRIPTION:Tweet
URL:https://www.topoi.net/event/algebra-logic-geometry-2
END:VEVENT
BEGIN:VEVENT
DTSTART;TZID=America/Los_Angeles:20260404T100000
DTEND;TZID=America/Los_Angeles:20260404T120000
DTSTAMP:20260424T170438
CREATED:20260330T011531Z
LAST-MODIFIED:20260330T011531Z
UID:4410-1775296800-1775304000@www.topoi.net
SUMMARY:Algebra\, Logic\, & Geometry Cartel
DESCRIPTION:Tweet
URL:https://www.topoi.net/event/algebra-logic-geometry-cartel
END:VEVENT
BEGIN:VEVENT
DTSTART;TZID=America/Los_Angeles:20260411T100000
DTEND;TZID=America/Los_Angeles:20260411T123000
DTSTAMP:20260424T170438
CREATED:20260330T011702Z
LAST-MODIFIED:20260330T011751Z
UID:4412-1775901600-1775910600@www.topoi.net
SUMMARY:The Peril of Structure/ Seminar
DESCRIPTION:Tweet
URL:https://www.topoi.net/event/the-peril-of-structure-seminar
END:VEVENT
BEGIN:VEVENT
DTSTART;TZID=America/Los_Angeles:20260418T100000
DTEND;TZID=America/Los_Angeles:20260418T123000
DTSTAMP:20260424T170438
CREATED:20260330T011912Z
LAST-MODIFIED:20260330T011912Z
UID:4415-1776506400-1776515400@www.topoi.net
SUMMARY:Algebra\, Logic\, & Geometry/ Cartel
DESCRIPTION:Tweet
URL:https://www.topoi.net/event/algebra-logic-geometry-cartel-2
END:VEVENT
BEGIN:VEVENT
DTSTART;TZID=America/Los_Angeles:20260425T100000
DTEND;TZID=America/Los_Angeles:20260425T123000
DTSTAMP:20260424T170438
CREATED:20260330T012010Z
LAST-MODIFIED:20260330T012010Z
UID:4417-1777111200-1777120200@www.topoi.net
SUMMARY:The Peril of Structure / Seminar
DESCRIPTION:Tweet
URL:https://www.topoi.net/event/the-peril-of-structure-seminar-2
END:VEVENT
BEGIN:VEVENT
DTSTART;TZID=America/Los_Angeles:20260502T080000
DTEND;TZID=America/Los_Angeles:20260502T170000
DTSTAMP:20260424T170438
CREATED:20260412T224706Z
LAST-MODIFIED:20260412T224706Z
UID:4429-1777708800-1777741200@www.topoi.net
SUMMARY:Logic\, Geometry\, and Algebra Cartel
DESCRIPTION:Tweet
URL:https://www.topoi.net/event/logic-geometry-and-algebra-cartel
END:VEVENT
END:VCALENDAR